BEGIN:VCALENDAR
VERSION:2.0
PRODID:-//https://www.barringtonmunicipality.com//NONSGML kigkonsult.se iCa
 lcreator 2.29.29//
CALSCALE:GREGORIAN
METHOD:PUBLISH
UID:62845669-165b-4547-8a8b-cc2dccda71ff
X-WR-CALNAME:JCal Pro Calendar
X-WR-CALDESC:Your online events calendar
X-WR-TIMEZONE:America/Halifax
BEGIN:VTIMEZONE
TZID:America/Halifax
BEGIN:STANDARD
TZNAME:AST
DTSTART:20251102T020000
TZOFFSETFROM:-0300
TZOFFSETTO:-0400
RDATE:20261101T020000
END:STANDARD
BEGIN:DAYLIGHT
TZNAME:ADT
DTSTART:20260308T020000
TZOFFSETFROM:-0400
TZOFFSETTO:-0300
RDATE:20270314T020000
END:DAYLIGHT
END:VTIMEZONE
BEGIN:VEVENT
UID:20200120T190000AST-93187W0PMZ@https://www.barringtonmunicipality.com/
DTSTAMP:20260426T004826Z
CATEGORIES:Committee of the Whole Meetings
DESCRIPTION:<h3>AGENDA<br />COMMITTEE OF THE WHOLE<br />Conference Room</h3
 >\n<p>January 20\, 2020<br />7:00 p.m.</p>\n<p>(Deputy Warden Crook)</p>\n
 <p>&nbsp\;</p>\n<p>1. Additions to the Agenda.</p>\n<p>2. Approval of Agen
 da.</p>\n<p>3. <a href='index.php?option=com_docman&amp\;view=document&amp
 \;alias=3440-2020-01-20-january-13-2020-committee-of-the-whole-council&amp
 \;category_slug=2020-committee-of-the-whole-agendas&amp\;Itemid=246'>Appro
 val of minutes of the Committee of the Whole Council Meeting held January 
 13\, 2020</a></p>\n<p>4. David Hodd\, Nova Scotia Nature Trust. (7:00 p.m.
 - 7:30 p.m.)</p>\n<p>5. Financial Report.</p>\n<p>&nbsp\; &nbsp\; &nbsp\; 
 &nbsp\; &nbsp\; &nbsp\; &nbsp\; &nbsp\; &nbsp\; &nbsp\; &nbsp\;- <a href='
 images/Capital_Projects_19_20_Status.pdf'>Capital Projects 2019 - 2020 Sta
 tus</a></p>\n<p>&nbsp\; &nbsp\; &nbsp\; &nbsp\; &nbsp\; &nbsp\; &nbsp\; &n
 bsp\; &nbsp\; &nbsp\; &nbsp\;- <a href='images/Financial_Statement_Dec_31_
 2019_Council.pdf'>Financial Statements and Comments</a></p>\n<p>6. Municip
 al Capital Plan</p>\n<p>&nbsp\; &nbsp\; &nbsp\; &nbsp\; &nbsp\; &nbsp\; &n
 bsp\; &nbsp\; &nbsp\; &nbsp\; &nbsp\;- <a href='index.php?option=com_docma
 n&amp\;view=document&amp\;alias=3439-2020-2021-capital-planning-process-ha
 ndbook&amp\;category_slug=2020-committee-of-the-whole-agendas&amp\;Itemid=
 246' target='_blank'>2020-2021 Capital Planning Process Handbook</a></p>\n
 <p>&nbsp\; &nbsp\; &nbsp\; &nbsp\; &nbsp\; &nbsp\; &nbsp\; &nbsp\; &nbsp\;
  &nbsp\; &nbsp\;- Capital Projects Discussion</p>\n<p>7. Provincial Tree H
 arvesting Plans.</p>\n<p>8. <a href='index.php?option=com_docman&amp\;view
 =document&amp\;alias=3438-2020-01-20-fire-department-capital-purchasing-pl
 an-2-full&amp\;category_slug=2020-committee-of-the-whole-agendas&amp\;Item
 id=246'>Capital Purchasing Plan&nbsp\;- Fire Services</a></p>\n<p>9. <a hr
 ef='index.php?option=com_docman&amp\;view=document&amp\;alias=3436-2020-01
 -20-communaute-bilingue-letters&amp\;category_slug=2020-committee-of-the-w
 hole-agendas&amp\;Itemid=246' target='_blank'> Bilingual Stop Sign Project
 .</a></p>\n<p>10.&nbsp\;<a href='index.php?option=com_docman&amp\;view=doc
 ument&amp\;alias=3433-2020-01-20-building-permit-reports&amp\;category_slu
 g=2020-committee-of-the-whole-agendas&amp\;Itemid=246' target='_blank'>Qua
 rterly Report - Building Permits.</a></p>\n<p>11.&nbsp\;<a href='index.php
 ?option=com_docman&amp\;view=document&amp\;alias=3437-2020-01-20-tender-ev
 aluation-report-modb1906&amp\;category_slug=2020-committee-of-the-whole-ag
 endas&amp\;Itemid=246' target='_blank'>Treatment Plant Assessment RFP.</a>
 </p>\n<p>12. <a href='index.php?option=com_docman&amp\;view=document&amp\;
 alias=3434-2020-01-20-letter-from-mos&amp\;category_slug=2020-committee-of
 -the-whole-agendas&amp\;Itemid=246' target='_blank'> Accessibility Advisor
 y Committee.</a></p>\n<p>13. 2020 Municipal Election - List of Electors / 
 Stipend for Returning Officer.</p>\n<p>14.&nbsp\;In-Camera Session Re: Mun
 icipal Property and Personnel Matter. (Section 22(2)(c)(e).</p>\n<p>15. Ad
 journment.</p>\n<p>&nbsp\;</p>
DTSTART;TZID=America/Halifax:20200120T190000
DTEND;TZID=America/Halifax:20200120T190000
SUMMARY:Committee of the Whole Council Meeting
URL:https://www.barringtonmunicipality.com/193-committee-of-the-whole-meeti
 ngs/123-committee-of-the-whole-council-meeting
X-ALT-DESC;FMTTYPE=TEXT/HTML:<h3>AGENDA<br />COMMITTEE OF THE WHOLE<br />Co
 nference Room</h3>\n<p>January 20\, 2020<br />7:00 p.m.</p>\n<p>(Deputy Wa
 rden Crook)</p>\n<p>&nbsp\;</p>\n<p>1. Additions to the Agenda.</p>\n<p>2.
  Approval of Agenda.</p>\n<p>3. <a href='index.php?option=com_docman&amp\;
 view=document&amp\;alias=3440-2020-01-20-january-13-2020-committee-of-the-
 whole-council&amp\;category_slug=2020-committee-of-the-whole-agendas&amp\;
 Itemid=246'>Approval of minutes of the Committee of the Whole Council Meet
 ing held January 13\, 2020</a></p>\n<p>4. David Hodd\, Nova Scotia Nature 
 Trust. (7:00 p.m.- 7:30 p.m.)</p>\n<p>5. Financial Report.</p>\n<p>&nbsp\;
  &nbsp\; &nbsp\; &nbsp\; &nbsp\; &nbsp\; &nbsp\; &nbsp\; &nbsp\; &nbsp\; &
 nbsp\;- <a href='images/Capital_Projects_19_20_Status.pdf'>Capital Project
 s 2019 - 2020 Status</a></p>\n<p>&nbsp\; &nbsp\; &nbsp\; &nbsp\; &nbsp\; &
 nbsp\; &nbsp\; &nbsp\; &nbsp\; &nbsp\; &nbsp\;- <a href='images/Financial_
 Statement_Dec_31_2019_Council.pdf'>Financial Statements and Comments</a></
 p>\n<p>6. Municipal Capital Plan</p>\n<p>&nbsp\; &nbsp\; &nbsp\; &nbsp\; &
 nbsp\; &nbsp\; &nbsp\; &nbsp\; &nbsp\; &nbsp\; &nbsp\;- <a href='index.php
 ?option=com_docman&amp\;view=document&amp\;alias=3439-2020-2021-capital-pl
 anning-process-handbook&amp\;category_slug=2020-committee-of-the-whole-age
 ndas&amp\;Itemid=246' target='_blank'>2020-2021 Capital Planning Process H
 andbook</a></p>\n<p>&nbsp\; &nbsp\; &nbsp\; &nbsp\; &nbsp\; &nbsp\; &nbsp\
 ; &nbsp\; &nbsp\; &nbsp\; &nbsp\;- Capital Projects Discussion</p>\n<p>7. 
 Provincial Tree Harvesting Plans.</p>\n<p>8. <a href='index.php?option=com
 _docman&amp\;view=document&amp\;alias=3438-2020-01-20-fire-department-capi
 tal-purchasing-plan-2-full&amp\;category_slug=2020-committee-of-the-whole-
 agendas&amp\;Itemid=246'>Capital Purchasing Plan&nbsp\;- Fire Services</a>
 </p>\n<p>9. <a href='index.php?option=com_docman&amp\;view=document&amp\;a
 lias=3436-2020-01-20-communaute-bilingue-letters&amp\;category_slug=2020-c
 ommittee-of-the-whole-agendas&amp\;Itemid=246' target='_blank'> Bilingual 
 Stop Sign Project.</a></p>\n<p>10.&nbsp\;<a href='index.php?option=com_doc
 man&amp\;view=document&amp\;alias=3433-2020-01-20-building-permit-reports&
 amp\;category_slug=2020-committee-of-the-whole-agendas&amp\;Itemid=246' ta
 rget='_blank'>Quarterly Report - Building Permits.</a></p>\n<p>11.&nbsp\;<
 a href='index.php?option=com_docman&amp\;view=document&amp\;alias=3437-202
 0-01-20-tender-evaluation-report-modb1906&amp\;category_slug=2020-committe
 e-of-the-whole-agendas&amp\;Itemid=246' target='_blank'>Treatment Plant As
 sessment RFP.</a></p>\n<p>12. <a href='index.php?option=com_docman&amp\;vi
 ew=document&amp\;alias=3434-2020-01-20-letter-from-mos&amp\;category_slug=
 2020-committee-of-the-whole-agendas&amp\;Itemid=246' target='_blank'> Acce
 ssibility Advisory Committee.</a></p>\n<p>13. 2020 Municipal Election - Li
 st of Electors / Stipend for Returning Officer.</p>\n<p>14.&nbsp\;In-Camer
 a Session Re: Municipal Property and Personnel Matter. (Section 22(2)(c)(e
 ).</p>\n<p>15. Adjournment.</p>\n<p>&nbsp\;</p>
END:VEVENT
END:VCALENDAR
