BEGIN:VCALENDAR
VERSION:2.0
PRODID:-//https://www.barringtonmunicipality.com//NONSGML kigkonsult.se iCa
 lcreator 2.29.29//
CALSCALE:GREGORIAN
METHOD:PUBLISH
UID:b80139c3-2523-4df5-b573-c4c041290bd2
X-WR-CALNAME:JCal Pro Calendar
X-WR-CALDESC:Your online events calendar
X-WR-TIMEZONE:America/Halifax
BEGIN:VTIMEZONE
TZID:America/Halifax
BEGIN:STANDARD
TZNAME:AST
DTSTART:20251102T020000
TZOFFSETFROM:-0300
TZOFFSETTO:-0400
RDATE:20261101T020000
END:STANDARD
BEGIN:DAYLIGHT
TZNAME:ADT
DTSTART:20260308T020000
TZOFFSETFROM:-0400
TZOFFSETTO:-0300
RDATE:20270314T020000
END:DAYLIGHT
END:VTIMEZONE
BEGIN:VEVENT
UID:20201019T190000ADT-0635lsavRe@https://www.barringtonmunicipality.com/
DTSTAMP:20260425T233354Z
CATEGORIES:Committee of the Whole Meetings
DTSTART;TZID=America/Halifax:20201019T190000
DTEND;TZID=America/Halifax:20201019T190000
SUMMARY:Committee of the Whole Council Meeting - CANCELLED
URL:https://www.barringtonmunicipality.com/193-committee-of-the-whole-meeti
 ngs/150-committee-of-the-whole-council-meeting
END:VEVENT
END:VCALENDAR
