BEGIN:VCALENDAR
VERSION:2.0
PRODID:-//https://www.barringtonmunicipality.com//NONSGML kigkonsult.se iCa
 lcreator 2.29.29//
CALSCALE:GREGORIAN
METHOD:PUBLISH
UID:9e9b6b5c-ab71-4a38-a670-bb2082eff780
X-WR-CALNAME:JCal Pro Calendar
X-WR-CALDESC:Your online events calendar
X-WR-TIMEZONE:America/Halifax
BEGIN:VTIMEZONE
TZID:America/Halifax
BEGIN:STANDARD
TZNAME:AST
DTSTART:20251102T020000
TZOFFSETFROM:-0300
TZOFFSETTO:-0400
RDATE:20261101T020000
END:STANDARD
BEGIN:DAYLIGHT
TZNAME:ADT
DTSTART:20260308T020000
TZOFFSETFROM:-0400
TZOFFSETTO:-0300
RDATE:20270314T020000
END:DAYLIGHT
END:VTIMEZONE
BEGIN:VEVENT
UID:20200130T190000AST-3797RFBAWa@https://www.barringtonmunicipality.com/
DTSTAMP:20260425T233353Z
CATEGORIES:Committee of the Whole Meetings
DESCRIPTION:<h3>SPECIAL MEETING<br />COMMITTEE OF THE WHOLE<br />Conference
  Room</h3>\n<h3>January 30\, 2020<br />7:00 p.m.</h3>\n<p>&nbsp\;</p>\n<p>
 1. Approval of Agenda.</p>\n<p>2. <a class='doclink docman_track_download 
 k-ui-namespace' href='index.php?option=com_docman&amp\;view=document&amp\;
 alias=3456-2020-01-13-letter-of-notice-commercial-bag-limit-collection-201
 9-2&amp\;category_slug=2020-committee-of-the-whole-agendas&amp\;Itemid=246
 ' target='_blank' data-title='2020 01 13 Letter of Notice Commercial Bag L
 imit Collection 2019' data-id='3456' type='application/pdf' data-processed
 ='data-processed'>    
<span class='k-icon-document-pdf  ' aria-hidden='tru
 e'></span>
<span class='k-visually-hidden'>pdf</span>
Commercial Waste Colle
 ction Notice.<span>(<!--
-->87 KB<!--
-->)</span>
</a></p>\n<p>3. Discussion 
 of <a class='doclink docman_track_download k-ui-namespace' href='index.php
 ?option=com_docman&amp\;view=document&amp\;alias=3457-by-law-no-08-collect
 ion-storage-and-disposal-of-waste-1&amp\;category_slug=2020-committee-of-t
 he-whole-agendas&amp\;Itemid=246' target='_blank' data-title='By law No 08
  Collection Storage and Disposal of Waste' data-id='3457' type='applicatio
 n/pdf' data-processed='data-processed'>    
<span class='k-icon-document-pd
 f  ' aria-hidden='true'></span>
<span class='k-visually-hidden'>pdf</span>
B
 y-law No. 8 “Collection\, Storage and Disposal of Waste.<span>(<!--
-->86 K
 B<!--
-->)</span>
</a></p>\n<p>4. In-Camera Session Re: Contract Negotiation
 s. (MGA Section 22(2)(e)).</p>\n<p>5. Adjournment.</p>
DTSTART;TZID=America/Halifax:20200130T190000
DTEND;TZID=America/Halifax:20200130T190000
SUMMARY:Special Committee of the Whole Council Meeting
URL:https://www.barringtonmunicipality.com/193-committee-of-the-whole-meeti
 ngs/460-special-committee-of-the-whole-council-meeting
X-ALT-DESC;FMTTYPE=TEXT/HTML:<h3>SPECIAL MEETING<br />COMMITTEE OF THE WHOL
 E<br />Conference Room</h3>\n<h3>January 30\, 2020<br />7:00 p.m.</h3>\n<p
 >&nbsp\;</p>\n<p>1. Approval of Agenda.</p>\n<p>2. <a class='doclink docma
 n_track_download k-ui-namespace' href='index.php?option=com_docman&amp\;vi
 ew=document&amp\;alias=3456-2020-01-13-letter-of-notice-commercial-bag-lim
 it-collection-2019-2&amp\;category_slug=2020-committee-of-the-whole-agenda
 s&amp\;Itemid=246' target='_blank' data-title='2020 01 13 Letter of Notice
  Commercial Bag Limit Collection 2019' data-id='3456' type='application/pd
 f' data-processed='data-processed'>    
<span class='k-icon-document-pdf  '
  aria-hidden='true'></span>
<span class='k-visually-hidden'>pdf</span>
Comme
 rcial Waste Collection Notice.<span>(<!--
-->87 KB<!--
-->)</span>
</a></p>\n
 <p>3. Discussion of <a class='doclink docman_track_download k-ui-namespace
 ' href='index.php?option=com_docman&amp\;view=document&amp\;alias=3457-by-
 law-no-08-collection-storage-and-disposal-of-waste-1&amp\;category_slug=20
 20-committee-of-the-whole-agendas&amp\;Itemid=246' target='_blank' data-ti
 tle='By law No 08 Collection Storage and Disposal of Waste' data-id='3457'
  type='application/pdf' data-processed='data-processed'>    
<span class='k
 -icon-document-pdf  ' aria-hidden='true'></span>
<span class='k-visually-hi
 dden'>pdf</span>
By-law No. 8 “Collection\, Storage and Disposal of Waste.<
 span>(<!--
-->86 KB<!--
-->)</span>
</a></p>\n<p>4. In-Camera Session Re: Con
 tract Negotiations. (MGA Section 22(2)(e)).</p>\n<p>5. Adjournment.</p>
END:VEVENT
END:VCALENDAR
