BEGIN:VCALENDAR
VERSION:2.0
PRODID:-//https://www.barringtonmunicipality.com//NONSGML kigkonsult.se iCa
 lcreator 2.29.29//
CALSCALE:GREGORIAN
METHOD:PUBLISH
UID:e44fdb04-943d-461a-8ff6-19395755a51b
X-WR-CALNAME:JCal Pro Calendar
X-WR-CALDESC:Your online events calendar
X-WR-TIMEZONE:America/Halifax
BEGIN:VTIMEZONE
TZID:America/Halifax
BEGIN:STANDARD
TZNAME:AST
DTSTART:20251102T020000
TZOFFSETFROM:-0300
TZOFFSETTO:-0400
RDATE:20261101T020000
END:STANDARD
BEGIN:DAYLIGHT
TZNAME:ADT
DTSTART:20260308T020000
TZOFFSETFROM:-0400
TZOFFSETTO:-0300
RDATE:20270314T020000
END:DAYLIGHT
END:VTIMEZONE
BEGIN:VEVENT
UID:20201026T190000ADT-9801muWri6@https://www.barringtonmunicipality.com/
DTSTAMP:20260425T222806Z
CATEGORIES:Council Meetings
DTSTART;TZID=America/Halifax:20201026T190000
DTEND;TZID=America/Halifax:20201026T190000
SUMMARY:Council Meeting - CANCELLED
URL:https://www.barringtonmunicipality.com/194-council-meetings/151-council
 -meeting
END:VEVENT
END:VCALENDAR
