BEGIN:VCALENDAR
VERSION:2.0
PRODID:-//https://www.barringtonmunicipality.com//NONSGML kigkonsult.se iCa
 lcreator 2.29.29//
CALSCALE:GREGORIAN
METHOD:PUBLISH
UID:a65143ce-2f03-41f4-a520-1c8b721db797
X-WR-CALNAME:JCal Pro Calendar
X-WR-CALDESC:Your online events calendar
X-WR-TIMEZONE:America/Halifax
BEGIN:VTIMEZONE
TZID:America/Halifax
BEGIN:STANDARD
TZNAME:AST
DTSTART:20251102T020000
TZOFFSETFROM:-0300
TZOFFSETTO:-0400
RDATE:20261101T020000
END:STANDARD
BEGIN:DAYLIGHT
TZNAME:ADT
DTSTART:20260308T020000
TZOFFSETFROM:-0400
TZOFFSETTO:-0300
RDATE:20270314T020000
END:DAYLIGHT
END:VTIMEZONE
BEGIN:VEVENT
UID:20210224T190000AST-56771H0zkN@https://www.barringtonmunicipality.com/
DTSTAMP:20260425T222937Z
CATEGORIES:Other Municipal Meetings
DESCRIPTION:<h3>AGENDA<br />Planning Advisory Committee</h3>\n<h3>February 
 24\, 2021<br />7:00 p.m.</h3>\n<p>&nbsp\;</p>\n<p>1. Additions to Agenda.<
 /p>\n<p>2. Approval of Agenda.</p>\n<p>3. Approval of minutes of the last 
 meeting held <a href='index.php?option=com_docman&amp\;view=document&amp\;
 alias=3912-2021-02-03-planning-advisory-committee&amp\;category_slug=2021-
 planning-advisory-committee-minutes&amp\;Itemid=246' target='_blank' class
 ='doclink docman_track_download k-ui-namespace' data-title='2021 02 03 Pla
 nning Advisory Committee' data-id='3912' type='application/pdf' data-proce
 ssed='data-processed'>    
<span class='k-icon-document-pdf  ' aria-hidden=
 'true'></span>
<span class='k-visually-hidden'>pdf</span>
February 3\, 2021<
 span>(<!--
-->97 KB<!--
-->)</span>
</a>.</p>\n<p>4. Public Participation Mee
 ting (7:00 p.m.)<br />&nbsp\; &nbsp\; &nbsp\; &nbsp\; &nbsp\; - <a href='i
 ndex.php?option=com_docman&amp\;view=document&amp\;alias=3861-2021-01-21-l
 obster-storage-facilities&amp\;category_slug=municipal-documents&amp\;Item
 id=246' target='_blank' class='doclink docman_track_download k-ui-namespac
 e' data-title='2021 01 21 Lobster Storage Facilities' data-id='3861' type=
 'application/pdf' data-processed='data-processed'>    
<span class='k-icon-
 document-pdf  ' aria-hidden='true'></span>
<span class='k-visually-hidden'>
 pdf</span>
Lobster Storage Facilities.<span>(<!--
-->1.01 MB<!--
-->)</span>
<
 /a><br />&nbsp\; &nbsp\; &nbsp\; &nbsp\; &nbsp\; - <a href='index.php?opti
 on=com_docman&amp\;view=document&amp\;alias=3868-2021-01-21-development-ag
 reement-application-duramax-holdings&amp\;category_slug=municipal-document
 s&amp\;Itemid=246' target='_blank' class='doclink docman_track_download k-
 ui-namespace' data-title='2021 01 21 Development Agreement Application Dur
 amax Holdings' data-id='3868' type='application/pdf' data-processed='data-
 processed'>    
<span class='k-icon-document-pdf  ' aria-hidden='true'></sp
 an>
<span class='k-visually-hidden'>pdf</span>
Application for Development A
 greement – Duramax Holdings In<span>(<!--
-->884 KB<!--
-->)</span>
</a>c.</p
 >\n<p>5. Report to Council.</p>\n<p>6. Adjournment.</p>
DTSTART;TZID=America/Halifax:20210224T190000
DTEND;TZID=America/Halifax:20210224T200000
SUMMARY:Planning Advisory Committee Meeting
URL:https://www.barringtonmunicipality.com/197-other-municipal-meetings/121
 8-planning-advisory-committee-meeting
X-ALT-DESC;FMTTYPE=TEXT/HTML:<h3>AGENDA<br />Planning Advisory Committee</h
 3>\n<h3>February 24\, 2021<br />7:00 p.m.</h3>\n<p>&nbsp\;</p>\n<p>1. Addi
 tions to Agenda.</p>\n<p>2. Approval of Agenda.</p>\n<p>3. Approval of min
 utes of the last meeting held <a href='index.php?option=com_docman&amp\;vi
 ew=document&amp\;alias=3912-2021-02-03-planning-advisory-committee&amp\;ca
 tegory_slug=2021-planning-advisory-committee-minutes&amp\;Itemid=246' targ
 et='_blank' class='doclink docman_track_download k-ui-namespace' data-titl
 e='2021 02 03 Planning Advisory Committee' data-id='3912' type='applicatio
 n/pdf' data-processed='data-processed'>    
<span class='k-icon-document-pd
 f  ' aria-hidden='true'></span>
<span class='k-visually-hidden'>pdf</span>
F
 ebruary 3\, 2021<span>(<!--
-->97 KB<!--
-->)</span>
</a>.</p>\n<p>4. Public 
 Participation Meeting (7:00 p.m.)<br />&nbsp\; &nbsp\; &nbsp\; &nbsp\; &nb
 sp\; - <a href='index.php?option=com_docman&amp\;view=document&amp\;alias=
 3861-2021-01-21-lobster-storage-facilities&amp\;category_slug=municipal-do
 cuments&amp\;Itemid=246' target='_blank' class='doclink docman_track_downl
 oad k-ui-namespace' data-title='2021 01 21 Lobster Storage Facilities' dat
 a-id='3861' type='application/pdf' data-processed='data-processed'>    
<sp
 an class='k-icon-document-pdf  ' aria-hidden='true'></span>
<span class='k-
 visually-hidden'>pdf</span>
Lobster Storage Facilities.<span>(<!--
-->1.01 M
 B<!--
-->)</span>
</a><br />&nbsp\; &nbsp\; &nbsp\; &nbsp\; &nbsp\; - <a hre
 f='index.php?option=com_docman&amp\;view=document&amp\;alias=3868-2021-01-
 21-development-agreement-application-duramax-holdings&amp\;category_slug=m
 unicipal-documents&amp\;Itemid=246' target='_blank' class='doclink docman_
 track_download k-ui-namespace' data-title='2021 01 21 Development Agreemen
 t Application Duramax Holdings' data-id='3868' type='application/pdf' data
 -processed='data-processed'>    
<span class='k-icon-document-pdf  ' aria-h
 idden='true'></span>
<span class='k-visually-hidden'>pdf</span>
Application 
 for Development Agreement – Duramax Holdings In<span>(<!--
-->884 KB<!--
-->
 )</span>
</a>c.</p>\n<p>5. Report to Council.</p>\n<p>6. Adjournment.</p>
END:VEVENT
END:VCALENDAR
