BEGIN:VCALENDAR
VERSION:2.0
PRODID:-//https://www.barringtonmunicipality.com//NONSGML kigkonsult.se iCa
 lcreator 2.29.29//
CALSCALE:GREGORIAN
METHOD:PUBLISH
UID:9892bcdc-3e82-4fc8-84f9-761901128337
X-WR-CALNAME:JCal Pro Calendar
X-WR-CALDESC:Your online events calendar
X-WR-TIMEZONE:America/Halifax
BEGIN:VTIMEZONE
TZID:America/Halifax
BEGIN:STANDARD
TZNAME:AST
DTSTART:20251102T020000
TZOFFSETFROM:-0300
TZOFFSETTO:-0400
RDATE:20261101T020000
END:STANDARD
BEGIN:DAYLIGHT
TZNAME:ADT
DTSTART:20260308T020000
TZOFFSETFROM:-0400
TZOFFSETTO:-0300
RDATE:20270314T020000
END:DAYLIGHT
END:VTIMEZONE
BEGIN:VEVENT
UID:20240221T190000AST-9723vEgBX5@https://barringtonmunicipality.com/
DTSTAMP:20260425T222733Z
CATEGORIES:Other Municipal Meetings
DESCRIPTION:<p>The Meeting will be held in the Multi-Purpose Room\, in the 
 Administrative Centre\, located at 2447 Highway 3\, Barrington.</p>
DTSTART;TZID=America/Halifax:20240221T190000
DTEND;TZID=America/Halifax:20240221T190000
SUMMARY:EMO Planning Committee
URL:https://www.barringtonmunicipality.com/197-other-municipal-meetings/257
 9-emo-planning-committee
X-ALT-DESC;FMTTYPE=TEXT/HTML:<p>The Meeting will be held in the Multi-Purpo
 se Room\, in the Administrative Centre\, located at 2447 Highway 3\, Barri
 ngton.</p>
END:VEVENT
END:VCALENDAR
