BEGIN:VCALENDAR
VERSION:2.0
PRODID:-//https://www.barringtonmunicipality.com//NONSGML kigkonsult.se iCa
 lcreator 2.29.29//
CALSCALE:GREGORIAN
METHOD:PUBLISH
UID:a0c1a859-9451-4f9f-8c60-7026b80436f7
X-WR-CALNAME:JCal Pro Calendar
X-WR-CALDESC:Your online events calendar
X-WR-TIMEZONE:America/Halifax
BEGIN:VTIMEZONE
TZID:America/Halifax
BEGIN:STANDARD
TZNAME:AST
DTSTART:20251102T020000
TZOFFSETFROM:-0300
TZOFFSETTO:-0400
RDATE:20261101T020000
END:STANDARD
BEGIN:DAYLIGHT
TZNAME:ADT
DTSTART:20260308T020000
TZOFFSETFROM:-0400
TZOFFSETTO:-0300
RDATE:20270314T020000
END:DAYLIGHT
END:VTIMEZONE
BEGIN:VEVENT
UID:20240903T180000ADT-4948kzPeSp@https://www.barringtonmunicipality.com/
DTSTAMP:20260425T222908Z
CATEGORIES:Other Municipal Meetings
DESCRIPTION:<p><strong>AGENDA</strong><br /><strong>AUDIT COMMITTEE MEETING
 </strong><br /><strong>Conference Room\, Administrative Centre</strong></p
 >\n<p><strong>September 3\, 2024<br /></strong><strong>6:00 p.m.</strong><
 /p>\n<p>&nbsp\;</p>\n<p>1. Additions to the Agenda</p>\n<p>2. Approval of 
 the Agenda</p>\n<p>3.&nbsp\; <a href='index.php?option=com_docman&amp\;vie
 w=document&amp\;alias=5761-2024-05-21-audit-committee-meeting&amp\;categor
 y_slug=audit-committee-minutes&amp\;Itemid=246' target='_blank' class='doc
 link-insert docman_track_download k-ui-namespace' data-title='2024 05 21 A
 udit Committee Meeting' data-id='5761' type='application/pdf' data-process
 ed='data-processed'>    
<span class='k-icon-document-pdf  ' aria-hidden='t
 rue'></span>
<span class='k-visually-hidden'>pdf</span>
Approval of the minu
 tes of the Audit Committee Meeting held May 21\, 2024<span>(<!--
-->78 KB<!
 --
-->)</span>
</a></p>\n<p>4. Presentation of Financial Statements</p>\n<p>
 5. Recommendations to Council</p>\n<p>6. Adjournment</p>
DTSTART;TZID=America/Halifax:20240903T180000
DTEND;TZID=America/Halifax:20240903T180000
SUMMARY:Audit Committee Meeting
URL:https://www.barringtonmunicipality.com/197-other-municipal-meetings/258
 7-audit-committee-meeting
X-ALT-DESC;FMTTYPE=TEXT/HTML:<p><strong>AGENDA</strong><br /><strong>AUDIT 
 COMMITTEE MEETING</strong><br /><strong>Conference Room\, Administrative C
 entre</strong></p>\n<p><strong>September 3\, 2024<br /></strong><strong>6:
 00 p.m.</strong></p>\n<p>&nbsp\;</p>\n<p>1. Additions to the Agenda</p>\n<
 p>2. Approval of the Agenda</p>\n<p>3.&nbsp\; <a href='index.php?option=co
 m_docman&amp\;view=document&amp\;alias=5761-2024-05-21-audit-committee-mee
 ting&amp\;category_slug=audit-committee-minutes&amp\;Itemid=246' target='_
 blank' class='doclink-insert docman_track_download k-ui-namespace' data-ti
 tle='2024 05 21 Audit Committee Meeting' data-id='5761' type='application/
 pdf' data-processed='data-processed'>    
<span class='k-icon-document-pdf 
  ' aria-hidden='true'></span>
<span class='k-visually-hidden'>pdf</span>
App
 roval of the minutes of the Audit Committee Meeting held May 21\, 2024<spa
 n>(<!--
-->78 KB<!--
-->)</span>
</a></p>\n<p>4. Presentation of Financial St
 atements</p>\n<p>5. Recommendations to Council</p>\n<p>6. Adjournment</p>
END:VEVENT
END:VCALENDAR
