BEGIN:VCALENDAR
VERSION:2.0
PRODID:-//https://www.barringtonmunicipality.com//NONSGML kigkonsult.se iCa
 lcreator 2.29.29//
CALSCALE:GREGORIAN
METHOD:PUBLISH
UID:8544e3fc-95e5-479d-931a-e8fdc1eda91e
X-WR-CALNAME:JCal Pro Calendar
X-WR-CALDESC:Your online events calendar
X-WR-TIMEZONE:America/Halifax
BEGIN:VTIMEZONE
TZID:America/Halifax
BEGIN:STANDARD
TZNAME:AST
DTSTART:20251102T020000
TZOFFSETFROM:-0300
TZOFFSETTO:-0400
RDATE:20261101T020000
END:STANDARD
BEGIN:DAYLIGHT
TZNAME:ADT
DTSTART:20260308T020000
TZOFFSETFROM:-0400
TZOFFSETTO:-0300
RDATE:20270314T020000
END:DAYLIGHT
END:VTIMEZONE
BEGIN:VEVENT
UID:20200226T190000AST-3703uxdvgg@https://www.barringtonmunicipality.com/
DTSTAMP:20260425T222907Z
CATEGORIES:Other Municipal Meetings
DESCRIPTION:<p>D</p>
DTSTART;TZID=America/Halifax:20200416T190000
DTEND;TZID=America/Halifax:20200416T190000
SUMMARY:Dialysis Committee Meeting - CANCELLED
URL:https://www.barringtonmunicipality.com/197-other-municipal-meetings/465
 -dialysis-committee-meeting
X-ALT-DESC;FMTTYPE=TEXT/HTML:<p>D</p>
END:VEVENT
END:VCALENDAR
