BEGIN:VCALENDAR
VERSION:2.0
PRODID:-//https://www.barringtonmunicipality.com//NONSGML kigkonsult.se iCa
 lcreator 2.29.29//
CALSCALE:GREGORIAN
METHOD:PUBLISH
UID:55b996d9-f356-4d84-9fea-7b2ba937a33a
X-WR-CALNAME:JCal Pro Calendar
X-WR-CALDESC:Your online events calendar
X-WR-TIMEZONE:America/Halifax
BEGIN:VTIMEZONE
TZID:America/Halifax
BEGIN:STANDARD
TZNAME:AST
DTSTART:20251102T020000
TZOFFSETFROM:-0300
TZOFFSETTO:-0400
RDATE:20261101T020000
END:STANDARD
BEGIN:DAYLIGHT
TZNAME:ADT
DTSTART:20260308T020000
TZOFFSETFROM:-0400
TZOFFSETTO:-0300
RDATE:20270314T020000
END:DAYLIGHT
END:VTIMEZONE
BEGIN:VEVENT
UID:20200406T170000ADT-4481oagfje@https://barringtonmunicipality.com/
DTSTAMP:20260425T222852Z
CATEGORIES:Other Municipal Meetings
DESCRIPTION:<h3>AGENDA<br />SPECIAL BUDGET MEETING - CANCELLED<br />Confere
 nce Room</h3>\n<p>April 7\, 2020<br />5:00 p.m.</p>\n<p>&nbsp\;</p>\n<p>1.
  Additions to the Agenda.</p>\n<p>2. Approval of Agenda.</p>\n<p>3.&nbsp\;
 Expenses</p>\n<p style='padding-left: 30px\;'>a. Mandatory Expenses<br />b
 . General Government Services<br />c. Protective Services<br />d. Transpor
 tation Services<br />e. Environmental Health<br />f. Public Health<br />g.
  Recreation and Cultural</p>\n<p>4. Beaches</p>\n<p>5. Sewers&nbsp\;&nbsp\
 ;</p>\n<p>6. Capital Budget</p>\n<p>7. Summary\, Strategic Priorities Alig
 nment &amp\; Next Steps</p>\n<p>8. Adjounrment</p>
DTSTART;TZID=America/Halifax:20200407T170000
DTEND;TZID=America/Halifax:20200407T210000
SUMMARY:Special Budget Meeting - CANCELLED
URL:https://www.barringtonmunicipality.com/197-other-municipal-meetings/668
 -special-budget-meeting-2
X-ALT-DESC;FMTTYPE=TEXT/HTML:<h3>AGENDA<br />SPECIAL BUDGET MEETING - CANCE
 LLED<br />Conference Room</h3>\n<p>April 7\, 2020<br />5:00 p.m.</p>\n<p>&
 nbsp\;</p>\n<p>1. Additions to the Agenda.</p>\n<p>2. Approval of Agenda.<
 /p>\n<p>3.&nbsp\;Expenses</p>\n<p style='padding-left: 30px\;'>a. Mandator
 y Expenses<br />b. General Government Services<br />c. Protective Services
 <br />d. Transportation Services<br />e. Environmental Health<br />f. Publ
 ic Health<br />g. Recreation and Cultural</p>\n<p>4. Beaches</p>\n<p>5. Se
 wers&nbsp\;&nbsp\;</p>\n<p>6. Capital Budget</p>\n<p>7. Summary\, Strategi
 c Priorities Alignment &amp\; Next Steps</p>\n<p>8. Adjounrment</p>
END:VEVENT
END:VCALENDAR
