BEGIN:VCALENDAR
VERSION:2.0
PRODID:-//https://www.barringtonmunicipality.com//NONSGML kigkonsult.se iCa
 lcreator 2.29.29//
CALSCALE:GREGORIAN
METHOD:PUBLISH
UID:05075239-54fd-484c-9ee4-648cc5904d1b
X-WR-CALNAME:JCal Pro Calendar
X-WR-CALDESC:Your online events calendar
X-WR-TIMEZONE:America/Halifax
BEGIN:VTIMEZONE
TZID:America/Halifax
BEGIN:STANDARD
TZNAME:AST
DTSTART:20251102T020000
TZOFFSETFROM:-0300
TZOFFSETTO:-0400
RDATE:20261101T020000
END:STANDARD
BEGIN:DAYLIGHT
TZNAME:ADT
DTSTART:20260308T020000
TZOFFSETFROM:-0400
TZOFFSETTO:-0300
RDATE:20270314T020000
END:DAYLIGHT
END:VTIMEZONE
BEGIN:VEVENT
UID:20200409T200000ADT-0979Xs99Ln@https://barringtonmunicipality.com/
DTSTAMP:20260425T222854Z
CATEGORIES:Other Municipal Meetings
DESCRIPTION:<h3>AGENDA<br />SPECIAL BUDGET MEETING<br />Conference Room</h3
 >\n<p>April 9\, 2020<br />8:00 p.m.</p>\n<p>&nbsp\;</p>\n<p>1. Additions t
 o the Agenda.</p>\n<p>2. Approval of Agenda.</p>\n<p>3. Introduction</p>\n
 <p>4. <a href='images/2020_-_2021_Budget_Presentation_-_Revenues_CF.pdf'>R
 evenues</a></p>\n<p style='padding-left: 30px\;'>a. Property Tax Trends an
 d Rate <br />b. Tax Revenue</p>\n<p>5. <a class='doclink docman_track_down
 load k-ui-namespace' href='index.php?option=com_docman&amp\;view=document&
 amp\;alias=3525-staff-report-arena-fees-2020-full&amp\;category_slug=munic
 ipal-documents&amp\;Itemid=246' target='_blank' data-title='Staff Report  
  Arena Fees 2020 (Full)' data-id='3525' type='application/pdf' data-proces
 sed='data-processed'>    
<span class='k-icon-document-pdf  ' aria-hidden='
 true'></span>
<span class='k-visually-hidden'>pdf</span>
Arena Fees<span>(<!
 --
-->2.80 MB<!--
-->)</span>
</a></p>\n<p>6. <a class='doclink docman_track_
 download k-ui-namespace' href='index.php?option=com_docman&amp\;view=docum
 ent&amp\;alias=3526-staff-report-furniture-disposal-fees-2020-full&amp\;ca
 tegory_slug=municipal-documents&amp\;Itemid=246' target='_blank' data-titl
 e='Staff Report   Furniture Disposal Fees 2020 (Full)' data-id='3526' type
 ='application/pdf' data-processed='data-processed'>    
<span class='k-icon
 -document-pdf  ' aria-hidden='true'></span>
<span class='k-visually-hidden'
 >pdf</span>
Furniture Disposal Fees<span>(<!--
-->215 KB<!--
-->)</span>
</a><
 /p>\n<p>7. Reserves</p>\n<p>8. Adjournment.</p>\n<p>&nbsp\;</p>\n<p>Audio 
 Recording: <a href='https://barringtonmunicipality-my.sharepoint.com/:u:/p
 /cfrotten/Edjp4l1Zp4tBnFwl1xSdsysBfVCSXy8WUsfeVy5_JpKkWg?e=WiGbxW'>Click H
 ere</a></p>
DTSTART;TZID=America/Halifax:20200409T200000
DTEND;TZID=America/Halifax:20200409T213000
SUMMARY:Special Budget Meeting
URL:https://www.barringtonmunicipality.com/197-other-municipal-meetings/929
 -special-budget-meeting
X-ALT-DESC;FMTTYPE=TEXT/HTML:<h3>AGENDA<br />SPECIAL BUDGET MEETING<br />Co
 nference Room</h3>\n<p>April 9\, 2020<br />8:00 p.m.</p>\n<p>&nbsp\;</p>\n
 <p>1. Additions to the Agenda.</p>\n<p>2. Approval of Agenda.</p>\n<p>3. I
 ntroduction</p>\n<p>4. <a href='images/2020_-_2021_Budget_Presentation_-_R
 evenues_CF.pdf'>Revenues</a></p>\n<p style='padding-left: 30px\;'>a. Prope
 rty Tax Trends and Rate <br />b. Tax Revenue</p>\n<p>5. <a class='doclink 
 docman_track_download k-ui-namespace' href='index.php?option=com_docman&am
 p\;view=document&amp\;alias=3525-staff-report-arena-fees-2020-full&amp\;ca
 tegory_slug=municipal-documents&amp\;Itemid=246' target='_blank' data-titl
 e='Staff Report   Arena Fees 2020 (Full)' data-id='3525' type='application
 /pdf' data-processed='data-processed'>    
<span class='k-icon-document-pdf
   ' aria-hidden='true'></span>
<span class='k-visually-hidden'>pdf</span>
Ar
 ena Fees<span>(<!--
-->2.80 MB<!--
-->)</span>
</a></p>\n<p>6. <a class='docl
 ink docman_track_download k-ui-namespace' href='index.php?option=com_docma
 n&amp\;view=document&amp\;alias=3526-staff-report-furniture-disposal-fees-
 2020-full&amp\;category_slug=municipal-documents&amp\;Itemid=246' target='
 _blank' data-title='Staff Report   Furniture Disposal Fees 2020 (Full)' da
 ta-id='3526' type='application/pdf' data-processed='data-processed'>    
<s
 pan class='k-icon-document-pdf  ' aria-hidden='true'></span>
<span class='k
 -visually-hidden'>pdf</span>
Furniture Disposal Fees<span>(<!--
-->215 KB<!-
 -
-->)</span>
</a></p>\n<p>7. Reserves</p>\n<p>8. Adjournment.</p>\n<p>&nbsp
 \;</p>\n<p>Audio Recording: <a href='https://barringtonmunicipality-my.sha
 repoint.com/:u:/p/cfrotten/Edjp4l1Zp4tBnFwl1xSdsysBfVCSXy8WUsfeVy5_JpKkWg?
 e=WiGbxW'>Click Here</a></p>
END:VEVENT
END:VCALENDAR
