BEGIN:VCALENDAR
VERSION:2.0
PRODID:-//https://www.barringtonmunicipality.com//NONSGML kigkonsult.se iCa
 lcreator 2.29.29//
CALSCALE:GREGORIAN
METHOD:PUBLISH
UID:af6705f5-adde-4932-b418-eaf7b773249d
X-WR-CALNAME:JCal Pro Calendar
X-WR-CALDESC:Your online events calendar
X-WR-TIMEZONE:America/Halifax
BEGIN:VTIMEZONE
TZID:America/Halifax
BEGIN:STANDARD
TZNAME:AST
DTSTART:20251102T020000
TZOFFSETFROM:-0300
TZOFFSETTO:-0400
RDATE:20261101T020000
END:STANDARD
BEGIN:DAYLIGHT
TZNAME:ADT
DTSTART:20260308T020000
TZOFFSETFROM:-0400
TZOFFSETTO:-0300
RDATE:20270314T020000
END:DAYLIGHT
END:VTIMEZONE
BEGIN:VEVENT
UID:20200409T200000ADT-1309NviF6V@https://barringtonmunicipality.com/
DTSTAMP:20260425T222853Z
CATEGORIES:Other Municipal Meetings
DESCRIPTION:<h3>AGENDA<br />SPECIAL BUDGET MEETING<br />Conference Room</h3
 >\n<p>April 16\, 2020<br />8:00 p.m.</p>\n<p>&nbsp\;</p>\n<p>1. Additions 
 to the Agenda.</p>\n<p>2. Approval of Agenda.</p>\n<p>3. Introduction</p>
 \n<p>4. <a href='images/2020_-_2021_Budget_Presentation_Night_2.pdf'>Reven
 ues</a></p>\n<p style='padding-left: 30px\;'>a. Property Tax Trends and Ra
 te <br />b. Tax Revenue</p>\n<p>5. <a class='doclink docman_track_download
  k-ui-namespace' href='index.php?option=com_docman&amp\;view=document&amp\
 ;alias=3525-staff-report-arena-fees-2020-full&amp\;category_slug=municipal
 -documents&amp\;Itemid=246' target='_blank' data-title='Staff Report   Are
 na Fees 2020 (Full)' data-id='3525' type='application/pdf' data-processed=
 'data-processed'>    
<span class='k-icon-document-pdf  ' aria-hidden='true
 '></span>
<span class='k-visually-hidden'>pdf</span>
Arena Fees<span>(<!--
--
 >2.80 MB<!--
-->)</span>
</a></p>\n<p>6. <a class='doclink docman_track_down
 load k-ui-namespace' href='index.php?option=com_docman&amp\;view=document&
 amp\;alias=3526-staff-report-furniture-disposal-fees-2020-full&amp\;catego
 ry_slug=municipal-documents&amp\;Itemid=246' target='_blank' data-title='S
 taff Report   Furniture Disposal Fees 2020 (Full)' data-id='3526' type='ap
 plication/pdf' data-processed='data-processed'>    
<span class='k-icon-doc
 ument-pdf  ' aria-hidden='true'></span>
<span class='k-visually-hidden'>pdf
 </span>
Furniture Disposal Fees<span>(<!--
-->215 KB<!--
-->)</span>
</a></p>
 \n<p>7. Reserves</p>\n<p>8. Adjournment.</p>\n<p>&nbsp\;</p>\n<p>Audio Rec
 ording: <a href='https://barringtonmunicipality-my.sharepoint.com/:u:/p/cf
 rotten/ERq71f3XPzBNlu022n5amMkBnNgYXN9mHHu7Icj4Y2w3jA?e=oVxqVj'>Click Here
 </a>.</p>
DTSTART;TZID=America/Halifax:20200416T200000
DTEND;TZID=America/Halifax:20200416T213000
SUMMARY:Special Budget Meeting
URL:https://www.barringtonmunicipality.com/197-other-municipal-meetings/930
 -special-budget-meeting-2
X-ALT-DESC;FMTTYPE=TEXT/HTML:<h3>AGENDA<br />SPECIAL BUDGET MEETING<br />Co
 nference Room</h3>\n<p>April 16\, 2020<br />8:00 p.m.</p>\n<p>&nbsp\;</p>
 \n<p>1. Additions to the Agenda.</p>\n<p>2. Approval of Agenda.</p>\n<p>3.
  Introduction</p>\n<p>4. <a href='images/2020_-_2021_Budget_Presentation_N
 ight_2.pdf'>Revenues</a></p>\n<p style='padding-left: 30px\;'>a. Property 
 Tax Trends and Rate <br />b. Tax Revenue</p>\n<p>5. <a class='doclink docm
 an_track_download k-ui-namespace' href='index.php?option=com_docman&amp\;v
 iew=document&amp\;alias=3525-staff-report-arena-fees-2020-full&amp\;catego
 ry_slug=municipal-documents&amp\;Itemid=246' target='_blank' data-title='S
 taff Report   Arena Fees 2020 (Full)' data-id='3525' type='application/pdf
 ' data-processed='data-processed'>    
<span class='k-icon-document-pdf  ' 
 aria-hidden='true'></span>
<span class='k-visually-hidden'>pdf</span>
Arena 
 Fees<span>(<!--
-->2.80 MB<!--
-->)</span>
</a></p>\n<p>6. <a class='doclink 
 docman_track_download k-ui-namespace' href='index.php?option=com_docman&am
 p\;view=document&amp\;alias=3526-staff-report-furniture-disposal-fees-2020
 -full&amp\;category_slug=municipal-documents&amp\;Itemid=246' target='_bla
 nk' data-title='Staff Report   Furniture Disposal Fees 2020 (Full)' data-i
 d='3526' type='application/pdf' data-processed='data-processed'>    
<span 
 class='k-icon-document-pdf  ' aria-hidden='true'></span>
<span class='k-vis
 ually-hidden'>pdf</span>
Furniture Disposal Fees<span>(<!--
-->215 KB<!--
-->
 )</span>
</a></p>\n<p>7. Reserves</p>\n<p>8. Adjournment.</p>\n<p>&nbsp\;</
 p>\n<p>Audio Recording: <a href='https://barringtonmunicipality-my.sharepo
 int.com/:u:/p/cfrotten/ERq71f3XPzBNlu022n5amMkBnNgYXN9mHHu7Icj4Y2w3jA?e=oV
 xqVj'>Click Here</a>.</p>
END:VEVENT
END:VCALENDAR
