BEGIN:VCALENDAR
VERSION:2.0
PRODID:-//https://www.barringtonmunicipality.com//NONSGML kigkonsult.se iCa
 lcreator 2.29.29//
CALSCALE:GREGORIAN
METHOD:PUBLISH
UID:9b9edf98-682b-404d-9584-cc6648364443
X-WR-CALNAME:JCal Pro Calendar
X-WR-CALDESC:Your online events calendar
X-WR-TIMEZONE:America/Halifax
BEGIN:VTIMEZONE
TZID:America/Halifax
BEGIN:STANDARD
TZNAME:AST
DTSTART:20251102T020000
TZOFFSETFROM:-0300
TZOFFSETTO:-0400
RDATE:20261101T020000
END:STANDARD
BEGIN:DAYLIGHT
TZNAME:ADT
DTSTART:20260308T020000
TZOFFSETFROM:-0400
TZOFFSETTO:-0300
RDATE:20270314T020000
END:DAYLIGHT
END:VTIMEZONE
BEGIN:VEVENT
UID:20200421T200000ADT-5564l8JK47@https://barringtonmunicipality.com/
DTSTAMP:20260425T222853Z
CATEGORIES:Other Municipal Meetings
DESCRIPTION:<h3>AGENDA<br />SPECIAL BUDGET MEETING<br />Conference Room&nbs
 p\;</h3>\n<p>April 21\, 2020<br />8:00 p.m.</p>\n<p>&nbsp\;</p>\n<p>1. Add
 itions to the Agenda.</p>\n<p>2. Approval of Agenda.</p>\n<p>3. <a class='
 doclink docman_track_download k-ui-namespace' href='index.php?option=com_d
 ocman&amp\;view=document&amp\;alias=3547-2020-2021-budget-presentation-nig
 ht-3&amp\;category_slug=municipal-documents&amp\;Itemid=246' target='_blan
 k' data-title='2020   2021 Budget Presentation (Night #3)' data-id='3547' 
 type='application/pdf' data-processed='data-processed'>    
<span class='k-
 icon-document-pdf  ' aria-hidden='true'></span>
<span class='k-visually-hid
 den'>pdf</span>
Expenses<span>(<!--
-->1.00 MB<!--
-->)</span>
</a></p>\n<p st
 yle='padding-left: 30px\;'>a. Mandatory Expenses<br />b. General Governmen
 t Services<br />c. Protective Services<br />d. Transportation Services<br 
 />e. Environmental Health<br />f. Public Health<br />g. Recreation and Cul
 tural</p>\n<p>4. Beaches</p>\n<p>5. Sewers</p>\n<p>6. Capital Budget</p>\n
 <p>7. Summary\, Strategic Priorities Alignment &amp\; Next Steps</p>\n<p>8
 . Adjounrment</p>\n<p>&nbsp\;</p>\n<p>Audio Recording: <a href='https://ba
 rringtonmunicipality-my.sharepoint.com/:u:/p/cfrotten/ER_NNvbflwVPoSVFVD_g
 dFwBPYvESE9wOtOWCvGgzKUFDQ?e=tc9f1K'>Click Here</a>.</p>
DTSTART;TZID=America/Halifax:20200421T200000
DTEND;TZID=America/Halifax:20200421T213000
SUMMARY:Special Budget Meeting
URL:https://www.barringtonmunicipality.com/197-other-municipal-meetings/931
 -special-budget-meeting
X-ALT-DESC;FMTTYPE=TEXT/HTML:<h3>AGENDA<br />SPECIAL BUDGET MEETING<br />Co
 nference Room&nbsp\;</h3>\n<p>April 21\, 2020<br />8:00 p.m.</p>\n<p>&nbsp
 \;</p>\n<p>1. Additions to the Agenda.</p>\n<p>2. Approval of Agenda.</p>
 \n<p>3. <a class='doclink docman_track_download k-ui-namespace' href='inde
 x.php?option=com_docman&amp\;view=document&amp\;alias=3547-2020-2021-budge
 t-presentation-night-3&amp\;category_slug=municipal-documents&amp\;Itemid=
 246' target='_blank' data-title='2020   2021 Budget Presentation (Night #3
 )' data-id='3547' type='application/pdf' data-processed='data-processed'> 
    
<span class='k-icon-document-pdf  ' aria-hidden='true'></span>
<span cla
 ss='k-visually-hidden'>pdf</span>
Expenses<span>(<!--
-->1.00 MB<!--
-->)</sp
 an>
</a></p>\n<p style='padding-left: 30px\;'>a. Mandatory Expenses<br />b.
  General Government Services<br />c. Protective Services<br />d. Transport
 ation Services<br />e. Environmental Health<br />f. Public Health<br />g. 
 Recreation and Cultural</p>\n<p>4. Beaches</p>\n<p>5. Sewers</p>\n<p>6. Ca
 pital Budget</p>\n<p>7. Summary\, Strategic Priorities Alignment &amp\; Ne
 xt Steps</p>\n<p>8. Adjounrment</p>\n<p>&nbsp\;</p>\n<p>Audio Recording: <
 a href='https://barringtonmunicipality-my.sharepoint.com/:u:/p/cfrotten/ER
 _NNvbflwVPoSVFVD_gdFwBPYvESE9wOtOWCvGgzKUFDQ?e=tc9f1K'>Click Here</a>.</p>
END:VEVENT
END:VCALENDAR
