BEGIN:VCALENDAR
VERSION:2.0
PRODID:-//https://www.barringtonmunicipality.com//NONSGML kigkonsult.se iCa
 lcreator 2.29.29//
CALSCALE:GREGORIAN
METHOD:PUBLISH
UID:4f1b2379-957b-4005-af6a-ae02d92162c5
X-WR-CALNAME:JCal Pro Calendar
X-WR-CALDESC:Your online events calendar
X-WR-TIMEZONE:America/Halifax
BEGIN:VTIMEZONE
TZID:America/Halifax
BEGIN:STANDARD
TZNAME:AST
DTSTART:20251102T020000
TZOFFSETFROM:-0300
TZOFFSETTO:-0400
RDATE:20261101T020000
END:STANDARD
BEGIN:DAYLIGHT
TZNAME:ADT
DTSTART:20260308T020000
TZOFFSETFROM:-0400
TZOFFSETTO:-0300
RDATE:20270314T020000
END:DAYLIGHT
END:VTIMEZONE
BEGIN:VEVENT
UID:20200421T200000ADT-0603Blul8i@https://barringtonmunicipality.com/
DTSTAMP:20260425T222853Z
CATEGORIES:Other Municipal Meetings
DESCRIPTION:<h3>AGENDA<br />SPECIAL BUDGET MEETING<br />Videoconference</h3
 >\n<p>April 23\, 2020<br />8:00 p.m.</p>\n<p>&nbsp\;</p>\n<p>1. Additions 
 to the Agenda.</p>\n<p>2. Approval of Agenda.</p>\n<p>3.&nbsp\;<a href='im
 ages/2020_-_2021_Budget_Presentation_Night_4.pdf'>Expenses</a></p>\n<p sty
 le='padding-left: 30px\;'>a. Mandatory Expenses<br />b. General Government
  Services<br />c. Protective Services<br />d. Transportation Services<br /
 >e. Environmental Health<br />f. Public Health<br />g. Recreation and Cult
 ural</p>\n<p>4. Beaches</p>\n<p>5. Sewers&nbsp\;&nbsp\;</p>\n<p>6. Capital
  Budget</p>\n<p>7. Summary\, Strategic Priorities Alignment &amp\; Next St
 eps</p>\n<p>8. Adjounrment</p>\n<p>&nbsp\;</p>\n<p>Audio Recording: <a hre
 f='https://barringtonmunicipality-my.sharepoint.com/:f:/p/cfrotten/EpHHpis
 FcThCtfCgoqYtVd0BusT6cRZKr9g4978bBpcJDw?e=r8vDxD'>Click Here</a>.&nbsp\;</
 p>
DTSTART;TZID=America/Halifax:20200423T200000
DTEND;TZID=America/Halifax:20200423T213000
SUMMARY:Special Budget Meeting
URL:https://www.barringtonmunicipality.com/197-other-municipal-meetings/932
 -special-budget-meeting-2
X-ALT-DESC;FMTTYPE=TEXT/HTML:<h3>AGENDA<br />SPECIAL BUDGET MEETING<br />Vi
 deoconference</h3>\n<p>April 23\, 2020<br />8:00 p.m.</p>\n<p>&nbsp\;</p>
 \n<p>1. Additions to the Agenda.</p>\n<p>2. Approval of Agenda.</p>\n<p>3.
 &nbsp\;<a href='images/2020_-_2021_Budget_Presentation_Night_4.pdf'>Expens
 es</a></p>\n<p style='padding-left: 30px\;'>a. Mandatory Expenses<br />b. 
 General Government Services<br />c. Protective Services<br />d. Transporta
 tion Services<br />e. Environmental Health<br />f. Public Health<br />g. R
 ecreation and Cultural</p>\n<p>4. Beaches</p>\n<p>5. Sewers&nbsp\;&nbsp\;<
 /p>\n<p>6. Capital Budget</p>\n<p>7. Summary\, Strategic Priorities Alignm
 ent &amp\; Next Steps</p>\n<p>8. Adjounrment</p>\n<p>&nbsp\;</p>\n<p>Audio
  Recording: <a href='https://barringtonmunicipality-my.sharepoint.com/:f:/
 p/cfrotten/EpHHpisFcThCtfCgoqYtVd0BusT6cRZKr9g4978bBpcJDw?e=r8vDxD'>Click 
 Here</a>.&nbsp\;</p>
END:VEVENT
END:VCALENDAR
