BEGIN:VCALENDAR
VERSION:2.0
PRODID:-//https://www.barringtonmunicipality.com//NONSGML kigkonsult.se iCa
 lcreator 2.29.29//
CALSCALE:GREGORIAN
METHOD:PUBLISH
UID:1dddb217-a86e-4971-8f65-702162a1576d
X-WR-CALNAME:JCal Pro Calendar
X-WR-CALDESC:Your online events calendar
X-WR-TIMEZONE:America/Halifax
BEGIN:VTIMEZONE
TZID:America/Halifax
BEGIN:STANDARD
TZNAME:AST
DTSTART:20251102T020000
TZOFFSETFROM:-0300
TZOFFSETTO:-0400
RDATE:20261101T020000
END:STANDARD
BEGIN:DAYLIGHT
TZNAME:ADT
DTSTART:20260308T020000
TZOFFSETFROM:-0400
TZOFFSETTO:-0300
RDATE:20270314T020000
END:DAYLIGHT
END:VTIMEZONE
BEGIN:VEVENT
UID:20191007T220000ADT-9304hw6eot@https://www.barringtonmunicipality.com/
DTSTAMP:20260425T200331Z
CATEGORIES:Recreation
DESCRIPTION:<p>Wesley Heritage Centre</p>
DTSTART;TZID=America/Halifax:20191007T100000
DTEND;TZID=America/Halifax:20191007T110000
SUMMARY:Chair and Balance Fitness
URL:https://www.barringtonmunicipality.com/198-recreation/108-chair-and-bal
 ance-fitness
X-ALT-DESC;FMTTYPE=TEXT/HTML:<p>Wesley Heritage Centre</p>
END:VEVENT
END:VCALENDAR
