BEGIN:VCALENDAR
VERSION:2.0
PRODID:-//https://www.barringtonmunicipality.com//NONSGML kigkonsult.se iCa
 lcreator 2.29.29//
CALSCALE:GREGORIAN
METHOD:PUBLISH
UID:c6a49e00-1810-4863-9e83-aeb5fb9fa13f
X-WR-CALNAME:JCal Pro Calendar
X-WR-CALDESC:Your online events calendar
X-WR-TIMEZONE:America/Halifax
BEGIN:VTIMEZONE
TZID:America/Halifax
BEGIN:STANDARD
TZNAME:AST
DTSTART:20251102T020000
TZOFFSETFROM:-0300
TZOFFSETTO:-0400
RDATE:20261101T020000
END:STANDARD
BEGIN:DAYLIGHT
TZNAME:ADT
DTSTART:20260308T020000
TZOFFSETFROM:-0400
TZOFFSETTO:-0300
RDATE:20270314T020000
END:DAYLIGHT
END:VTIMEZONE
BEGIN:VEVENT
UID:20191025T093000ADT-1134w6KG3p@https://www.barringtonmunicipality.com/
DTSTAMP:20260425T195352Z
CATEGORIES:Recreation
DESCRIPTION:<p>Wesley Heritage Centre</p>
DTSTART;TZID=America/Halifax:20191025T093000
DTEND;TZID=America/Halifax:20191025T103000
SUMMARY:Walking Program
URL:https://www.barringtonmunicipality.com/198-recreation/118-walking-progr
 am
X-ALT-DESC;FMTTYPE=TEXT/HTML:<p>Wesley Heritage Centre</p>
END:VEVENT
END:VCALENDAR
