BEGIN:VCALENDAR
VERSION:2.0
PRODID:-//https://www.barringtonmunicipality.com//NONSGML kigkonsult.se iCa
 lcreator 2.29.29//
CALSCALE:GREGORIAN
METHOD:PUBLISH
UID:6a2e5725-58eb-401c-8fdc-2eecf6081c54
X-WR-CALNAME:JCal Pro Calendar
X-WR-CALDESC:Your online events calendar
X-WR-TIMEZONE:America/Halifax
BEGIN:VTIMEZONE
TZID:America/Halifax
BEGIN:STANDARD
TZNAME:AST
DTSTART:20251102T020000
TZOFFSETFROM:-0300
TZOFFSETTO:-0400
RDATE:20261101T020000
END:STANDARD
BEGIN:DAYLIGHT
TZNAME:ADT
DTSTART:20260308T020000
TZOFFSETFROM:-0400
TZOFFSETTO:-0300
RDATE:20270314T020000
END:DAYLIGHT
END:VTIMEZONE
BEGIN:VEVENT
UID:20191107T180000AST-1467t0abs8@https://www.barringtonmunicipality.com/
DTSTAMP:20260425T195453Z
CATEGORIES:Recreation
DESCRIPTION:<p>Every Thursdays\, 6 pm to 8 pm\, Recreation Centre</p>\n<p>A
 ges 7 - 16 - $5.00\; Ages 17 and up - $10</p>\n<p>Instructor Jacob Almero<
 /p>
DTSTART;TZID=America/Halifax:20191107T180000
DTEND;TZID=America/Halifax:20191107T200000
RRULE:FREQ=WEEKLY;UNTIL=20191128T040000Z;INTERVAL=1;BYDAY=TH
SUMMARY:Kung Fu
URL:https://www.barringtonmunicipality.com/198-recreation/312-kung-fu
X-ALT-DESC;FMTTYPE=TEXT/HTML:<p>Every Thursdays\, 6 pm to 8 pm\, Recreation
  Centre</p>\n<p>Ages 7 - 16 - $5.00\; Ages 17 and up - $10</p>\n<p>Instruc
 tor Jacob Almero</p>
END:VEVENT
END:VCALENDAR
