BEGIN:VCALENDAR
VERSION:2.0
PRODID:-//https://www.barringtonmunicipality.com//NONSGML kigkonsult.se iCa
 lcreator 2.29.29//
CALSCALE:GREGORIAN
METHOD:PUBLISH
UID:ae29939f-311d-4e86-a694-42b3ade3f9d9
X-WR-CALNAME:JCal Pro Calendar
X-WR-CALDESC:Your online events calendar
X-WR-TIMEZONE:America/Halifax
BEGIN:VTIMEZONE
TZID:America/Halifax
BEGIN:STANDARD
TZNAME:AST
DTSTART:20251102T020000
TZOFFSETFROM:-0300
TZOFFSETTO:-0400
RDATE:20261101T020000
END:STANDARD
BEGIN:DAYLIGHT
TZNAME:ADT
DTSTART:20260308T020000
TZOFFSETFROM:-0400
TZOFFSETTO:-0300
RDATE:20270314T020000
END:DAYLIGHT
END:VTIMEZONE
BEGIN:VEVENT
UID:20191105T100000AST-77652nh9gT@https://www.barringtonmunicipality.com/
DTSTAMP:20260425T195351Z
CATEGORIES:Recreation
DESCRIPTION:<p>preschool program offered by recreation department. Crafts\,
  outdoor play\, drop in.</p>\n<p>for more information on the program\, ple
 ase call the recreation department at 902 637-2015.</p>
DTSTART;TZID=America/Halifax:20191107T010000
DTEND;TZID=America/Halifax:20191107T020000
RRULE:FREQ=WEEKLY;UNTIL=20191128T040000Z;INTERVAL=1;BYDAY=TH
SUMMARY:Preschool program (rec)
URL:https://www.barringtonmunicipality.com/198-recreation/372-preschool-pro
 gram
X-ALT-DESC;FMTTYPE=TEXT/HTML:<p>preschool program offered by recreation dep
 artment. Crafts\, outdoor play\, drop in.</p>\n<p>for more information on 
 the program\, please call the recreation department at 902 637-2015.</p>
END:VEVENT
END:VCALENDAR
