BEGIN:VCALENDAR
VERSION:2.0
PRODID:-//https://www.barringtonmunicipality.com//NONSGML kigkonsult.se iCa
 lcreator 2.29.29//
CALSCALE:GREGORIAN
METHOD:PUBLISH
UID:03350744-3a87-4240-b164-98955104664d
X-WR-CALNAME:JCal Pro Calendar
X-WR-CALDESC:Your online events calendar
X-WR-TIMEZONE:America/Halifax
BEGIN:VTIMEZONE
TZID:America/Halifax
BEGIN:STANDARD
TZNAME:AST
DTSTART:20251102T020000
TZOFFSETFROM:-0300
TZOFFSETTO:-0400
RDATE:20261101T020000
END:STANDARD
BEGIN:DAYLIGHT
TZNAME:ADT
DTSTART:20260308T020000
TZOFFSETFROM:-0400
TZOFFSETTO:-0300
RDATE:20270314T020000
END:DAYLIGHT
END:VTIMEZONE
BEGIN:VEVENT
UID:20191111T100000AST-94866DTGjh@https://www.barringtonmunicipality.com/
DTSTAMP:20260425T200337Z
CATEGORIES:Recreation
DESCRIPTION:<p>program held at the Wesley Heritage Center. For more informa
 tion\, please contact Pat Hudson at <!-- This email address is being prote
 cted from spambots. --><span class='cloaked_email ep_14117309'><span data-
 ep-b='&#111\;&#109\;' data-ep-a='&#98\;a&#114\;r&#105\;'><span data-ep-a='
 n&#103\;t&#111\;n' data-ep-b='ail&#46\;c'><span data-ep-a='&#107\;a&#121\;
 &#97\;&#107\;' data-ep-b='&#101\;&#114\;&#64\;&#103\;&#109\;'></span></spa
 n></span></span><script>RegularLabs.EmailProtector.unCloak('ep_14117309')\
 ;</script></p>
DTSTART;TZID=America/Halifax:20191118T100000
DTEND;TZID=America/Halifax:20191118T110000
RRULE:FREQ=WEEKLY;UNTIL=20191125T040000Z;INTERVAL=1;BYDAY=MO
SUMMARY:Chair and Balance Fitness
URL:https://www.barringtonmunicipality.com/198-recreation/386-chair-and-bal
 ance-fitness
X-ALT-DESC;FMTTYPE=TEXT/HTML:<p>program held at the Wesley Heritage Center.
  For more information\, please contact Pat Hudson at <!-- This email addre
 ss is being protected from spambots. --><span class='cloaked_email ep_1411
 7309'><span data-ep-b='&#111\;&#109\;' data-ep-a='&#98\;a&#114\;r&#105\;'>
 <span data-ep-a='n&#103\;t&#111\;n' data-ep-b='ail&#46\;c'><span data-ep-a
 ='&#107\;a&#121\;&#97\;&#107\;' data-ep-b='&#101\;&#114\;&#64\;&#103\;&#10
 9\;'></span></span></span></span><script>RegularLabs.EmailProtector.unCloa
 k('ep_14117309')\;</script></p>
END:VEVENT
END:VCALENDAR
