BEGIN:VCALENDAR
VERSION:2.0
PRODID:-//https://www.barringtonmunicipality.com//NONSGML kigkonsult.se iCa
 lcreator 2.29.29//
CALSCALE:GREGORIAN
METHOD:PUBLISH
UID:49ed84f9-aa10-45fd-b8f1-53ca86b08c76
X-WR-CALNAME:JCal Pro Calendar
X-WR-CALDESC:Your online events calendar
X-WR-TIMEZONE:America/Halifax
BEGIN:VTIMEZONE
TZID:America/Halifax
BEGIN:STANDARD
TZNAME:AST
DTSTART:20251102T020000
TZOFFSETFROM:-0300
TZOFFSETTO:-0400
RDATE:20261101T020000
END:STANDARD
BEGIN:DAYLIGHT
TZNAME:ADT
DTSTART:20260308T020000
TZOFFSETFROM:-0400
TZOFFSETTO:-0300
RDATE:20270314T020000
END:DAYLIGHT
END:VTIMEZONE
BEGIN:VEVENT
UID:20191129T070000AST-0027KXrphR@https://www.barringtonmunicipality.com/
DTSTAMP:20260425T222735Z
CATEGORIES:Recreation
DESCRIPTION:<p>Location : Wesley Heritage Centre\, Barrington</p>
DTSTART;TZID=America/Halifax:20191129T190000
DTEND;TZID=America/Halifax:20191129T210000
SUMMARY:Sound of Men Christmas program
URL:https://www.barringtonmunicipality.com/198-recreation/398-sound-of-men-
 christmas-program
X-ALT-DESC;FMTTYPE=TEXT/HTML:<p>Location : Wesley Heritage Centre\, Barring
 ton</p>
END:VEVENT
END:VCALENDAR
