BEGIN:VCALENDAR
VERSION:2.0
PRODID:-//https://www.barringtonmunicipality.com//NONSGML kigkonsult.se iCa
 lcreator 2.29.29//
CALSCALE:GREGORIAN
METHOD:PUBLISH
UID:9f562af7-14f3-48cb-afa2-2a6acf37a5df
X-WR-CALNAME:JCal Pro Calendar
X-WR-CALDESC:Your online events calendar
X-WR-TIMEZONE:America/Halifax
BEGIN:VTIMEZONE
TZID:America/Halifax
BEGIN:STANDARD
TZNAME:AST
DTSTART:20251102T020000
TZOFFSETFROM:-0300
TZOFFSETTO:-0400
RDATE:20261101T020000
END:STANDARD
BEGIN:DAYLIGHT
TZNAME:ADT
DTSTART:20260308T020000
TZOFFSETFROM:-0400
TZOFFSETTO:-0300
RDATE:20270314T020000
END:DAYLIGHT
END:VTIMEZONE
BEGIN:VEVENT
UID:20191121T190000AST-4733zmG7Co@https://www.barringtonmunicipality.com/
DTSTAMP:20260425T200053Z
CATEGORIES:Recreation
DESCRIPTION:<p>North East Point Gazebo. Hot chocolate and hot apple cider. 
 Turning on the lights on the Lobster Pot Christmas tree. Celebrating 10 ye
 ars of the tree!&nbsp\;</p>
DTSTART;TZID=America/Halifax:20191121T190000
DTEND;TZID=America/Halifax:20191121T203000
SUMMARY:Turning on the Lights Celebration
URL:https://www.barringtonmunicipality.com/198-recreation/402-turning-on-th
 e-lights-celebration
X-ALT-DESC;FMTTYPE=TEXT/HTML:<p>North East Point Gazebo. Hot chocolate and 
 hot apple cider. Turning on the lights on the Lobster Pot Christmas tree. 
 Celebrating 10 years of the tree!&nbsp\;</p>
END:VEVENT
END:VCALENDAR
