BEGIN:VCALENDAR
VERSION:2.0
PRODID:-//https://www.barringtonmunicipality.com//NONSGML kigkonsult.se iCa
 lcreator 2.29.29//
CALSCALE:GREGORIAN
METHOD:PUBLISH
UID:2f82e28c-99a4-41ee-bdab-2f787cfbfd0f
X-WR-CALNAME:JCal Pro Calendar
X-WR-CALDESC:Your online events calendar
X-WR-TIMEZONE:America/Halifax
BEGIN:VTIMEZONE
TZID:America/Halifax
BEGIN:STANDARD
TZNAME:AST
DTSTART:20251102T020000
TZOFFSETFROM:-0300
TZOFFSETTO:-0400
RDATE:20261101T020000
END:STANDARD
BEGIN:DAYLIGHT
TZNAME:ADT
DTSTART:20260308T020000
TZOFFSETFROM:-0400
TZOFFSETTO:-0300
RDATE:20270314T020000
END:DAYLIGHT
END:VTIMEZONE
BEGIN:VEVENT
UID:20191130T120000AST-7598veuvax@https://www.barringtonmunicipality.com/
DTSTAMP:20260425T222825Z
CATEGORIES:Recreation
DTSTART;TZID=America/Halifax:20191130T120000
DTEND;TZID=America/Halifax:20191130T190000
SUMMARY:Barrington Museum Complex Christmas Shopping Party
URL:https://www.barringtonmunicipality.com/198-recreation/405-barrington-mu
 seum-complex-christmas-shopping-party
END:VEVENT
END:VCALENDAR
