BEGIN:VCALENDAR
VERSION:2.0
PRODID:-//https://www.barringtonmunicipality.com//NONSGML kigkonsult.se iCa
 lcreator 2.29.29//
CALSCALE:GREGORIAN
METHOD:PUBLISH
UID:555fadc6-fd17-4457-96b1-691b940d1343
X-WR-CALNAME:JCal Pro Calendar
X-WR-CALDESC:Your online events calendar
X-WR-TIMEZONE:America/Halifax
BEGIN:VTIMEZONE
TZID:America/Halifax
BEGIN:STANDARD
TZNAME:AST
DTSTART:20251102T020000
TZOFFSETFROM:-0300
TZOFFSETTO:-0400
RDATE:20261101T020000
END:STANDARD
BEGIN:DAYLIGHT
TZNAME:ADT
DTSTART:20260308T020000
TZOFFSETFROM:-0400
TZOFFSETTO:-0300
RDATE:20270314T020000
END:DAYLIGHT
END:VTIMEZONE
BEGIN:VEVENT
UID:20191207T090000AST-0657FsCPwm@https://www.barringtonmunicipality.com/
DTSTAMP:20260425T222637Z
CATEGORIES:Recreation
DESCRIPTION:<p>$10 for ages 13 and up\; $5 for ages 5 to 12\; free for ages
  5 and under.</p>
DTSTART;TZID=America/Halifax:20191207T090000
DTEND;TZID=America/Halifax:20191207T100000
SUMMARY:Reindeer Dash (2k & 5k fun run)
URL:https://www.barringtonmunicipality.com/198-recreation/411-reindeer-dash
 -2k-5k-fun-run
X-ALT-DESC;FMTTYPE=TEXT/HTML:<p>$10 for ages 13 and up\; $5 for ages 5 to 1
 2\; free for ages 5 and under.</p>
END:VEVENT
END:VCALENDAR
