BEGIN:VCALENDAR
VERSION:2.0
PRODID:-//https://www.barringtonmunicipality.com//NONSGML kigkonsult.se iCa
 lcreator 2.29.29//
CALSCALE:GREGORIAN
METHOD:PUBLISH
UID:1b72d14c-1889-405b-9fbc-c3e6063fa0a9
X-WR-CALNAME:JCal Pro Calendar
X-WR-CALDESC:Your online events calendar
X-WR-TIMEZONE:America/Halifax
BEGIN:VTIMEZONE
TZID:America/Halifax
BEGIN:STANDARD
TZNAME:AST
DTSTART:20251102T020000
TZOFFSETFROM:-0300
TZOFFSETTO:-0400
RDATE:20261101T020000
END:STANDARD
BEGIN:DAYLIGHT
TZNAME:ADT
DTSTART:20260308T020000
TZOFFSETFROM:-0400
TZOFFSETTO:-0300
RDATE:20270314T020000
END:DAYLIGHT
END:VTIMEZONE
BEGIN:VEVENT
UID:20191203T110000AST-11920pehuR@https://www.barringtonmunicipality.com/
DTSTAMP:20260425T222636Z
CATEGORIES:Recreation
DTSTART;TZID=America/Halifax:20191203T110000
DTEND;TZID=America/Halifax:20191203T120000
RRULE:FREQ=WEEKLY;COUNT=2;INTERVAL=1;BYDAY=TU
SUMMARY:Adult Skate
URL:https://www.barringtonmunicipality.com/198-recreation/437-adult-skate
END:VEVENT
END:VCALENDAR
