BEGIN:VCALENDAR
VERSION:2.0
PRODID:-//https://www.barringtonmunicipality.com//NONSGML kigkonsult.se iCa
 lcreator 2.29.29//
CALSCALE:GREGORIAN
METHOD:PUBLISH
UID:79f1cce7-6702-4f94-8bc1-bf5b59e884f3
X-WR-CALNAME:JCal Pro Calendar
X-WR-CALDESC:Your online events calendar
X-WR-TIMEZONE:America/Halifax
BEGIN:VTIMEZONE
TZID:America/Halifax
BEGIN:STANDARD
TZNAME:AST
DTSTART:20251102T020000
TZOFFSETFROM:-0300
TZOFFSETTO:-0400
RDATE:20261101T020000
END:STANDARD
BEGIN:DAYLIGHT
TZNAME:ADT
DTSTART:20260308T020000
TZOFFSETFROM:-0400
TZOFFSETTO:-0300
RDATE:20270314T020000
END:DAYLIGHT
END:VTIMEZONE
BEGIN:VEVENT
UID:20191205T110000AST-9495j1fnup@https://www.barringtonmunicipality.com/
DTSTAMP:20260425T222736Z
CATEGORIES:Recreation
DESCRIPTION:<p>Sandy Wickens Memorial Arena</p>
DTSTART;TZID=America/Halifax:20191205T110000
DTEND;TZID=America/Halifax:20191205T120000
RRULE:FREQ=WEEKLY;COUNT=3;INTERVAL=1;BYDAY=TH
SUMMARY:Adult Skating
URL:https://www.barringtonmunicipality.com/198-recreation/440-adult-skating
X-ALT-DESC;FMTTYPE=TEXT/HTML:<p>Sandy Wickens Memorial Arena</p>
END:VEVENT
END:VCALENDAR
