BEGIN:VCALENDAR
VERSION:2.0
PRODID:-//https://www.barringtonmunicipality.com//NONSGML kigkonsult.se iCa
 lcreator 2.29.29//
CALSCALE:GREGORIAN
METHOD:PUBLISH
UID:3b8f6d71-96c9-4b2c-83bb-2fa447f96bce
X-WR-CALNAME:JCal Pro Calendar
X-WR-CALDESC:Your online events calendar
X-WR-TIMEZONE:America/Halifax
BEGIN:VTIMEZONE
TZID:America/Halifax
BEGIN:STANDARD
TZNAME:AST
DTSTART:20251102T020000
TZOFFSETFROM:-0300
TZOFFSETTO:-0400
RDATE:20261101T020000
END:STANDARD
BEGIN:DAYLIGHT
TZNAME:ADT
DTSTART:20260308T020000
TZOFFSETFROM:-0400
TZOFFSETTO:-0300
RDATE:20270314T020000
END:DAYLIGHT
END:VTIMEZONE
BEGIN:VEVENT
UID:20191203T160000AST-2384rAEwOR@https://www.barringtonmunicipality.com/
DTSTAMP:20260425T222854Z
CATEGORIES:Recreation
DESCRIPTION:<p>Sandy Wickens Memorial Arena - for ages 7 to 10</p>
DTSTART;TZID=America/Halifax:20191203T160000
DTEND;TZID=America/Halifax:20191203T170000
RRULE:FREQ=WEEKLY;COUNT=3;INTERVAL=1;BYDAY=TU
SUMMARY:Youth 4 on 4 pick up hockey
URL:https://www.barringtonmunicipality.com/198-recreation/443-youth-4-on-4-
 pick-up-hockey
X-ALT-DESC;FMTTYPE=TEXT/HTML:<p>Sandy Wickens Memorial Arena - for ages 7 t
 o 10</p>
END:VEVENT
END:VCALENDAR
