BEGIN:VCALENDAR
VERSION:2.0
PRODID:-//https://www.barringtonmunicipality.com//NONSGML kigkonsult.se iCa
 lcreator 2.29.29//
CALSCALE:GREGORIAN
METHOD:PUBLISH
UID:9a1d65cf-29d1-46ce-9807-116d815f81ea
X-WR-CALNAME:JCal Pro Calendar
X-WR-CALDESC:Your online events calendar
X-WR-TIMEZONE:America/Halifax
BEGIN:VTIMEZONE
TZID:America/Halifax
BEGIN:STANDARD
TZNAME:AST
DTSTART:20251102T020000
TZOFFSETFROM:-0300
TZOFFSETTO:-0400
RDATE:20261101T020000
END:STANDARD
BEGIN:DAYLIGHT
TZNAME:ADT
DTSTART:20260308T020000
TZOFFSETFROM:-0400
TZOFFSETTO:-0300
RDATE:20270314T020000
END:DAYLIGHT
END:VTIMEZONE
BEGIN:VEVENT
UID:20191005T130000ADT-0586tfB2eD@https://www.barringtonmunicipality.com/
DTSTAMP:20260425T200053Z
CATEGORIES:Recreation
DESCRIPTION:<p>Sherose Island Recreation Centre</p>
DTSTART;TZID=America/Halifax:20191005T130000
DTEND;TZID=America/Halifax:20191005T130000
SUMMARY:Mental Health Walk
URL:https://www.barringtonmunicipality.com/198-recreation/94-mental-health-
 walk
X-ALT-DESC;FMTTYPE=TEXT/HTML:<p>Sherose Island Recreation Centre</p>
END:VEVENT
END:VCALENDAR
