BEGIN:VCALENDAR
VERSION:2.0
PRODID:-//https://www.barringtonmunicipality.com//NONSGML kigkonsult.se iCa
 lcreator 2.29.29//
CALSCALE:GREGORIAN
METHOD:PUBLISH
UID:a2fb6180-a60d-4294-832b-1f06745eaad6
X-WR-CALNAME:JCal Pro Calendar
X-WR-CALDESC:Your online events calendar
X-WR-TIMEZONE:America/Halifax
BEGIN:VTIMEZONE
TZID:America/Halifax
BEGIN:STANDARD
TZNAME:AST
DTSTART:20251102T020000
TZOFFSETFROM:-0300
TZOFFSETTO:-0400
RDATE:20261101T020000
END:STANDARD
BEGIN:DAYLIGHT
TZNAME:ADT
DTSTART:20260308T020000
TZOFFSETFROM:-0400
TZOFFSETTO:-0300
RDATE:20270314T020000
END:DAYLIGHT
END:VTIMEZONE
BEGIN:VEVENT
UID:20190411T180000ADT-5629ARVDEN@http://barrington.mwvdev.info/
DTSTAMP:20260425T200513Z
CATEGORIES:Private Rental
DTSTART;TZID=America/Halifax:20190411T180000
DTEND;TZID=America/Halifax:20190411T190000
SUMMARY:Private Rental
URL:https://www.barringtonmunicipality.com/202-private-rental/14-private-re
 ntal
END:VEVENT
END:VCALENDAR
