BEGIN:VCALENDAR
VERSION:2.0
PRODID:-//https://www.barringtonmunicipality.com//NONSGML kigkonsult.se iCa
 lcreator 2.29.29//
CALSCALE:GREGORIAN
METHOD:PUBLISH
UID:5c52202f-2f68-4907-8a39-9b81b065deb2
X-WR-CALNAME:JCal Pro Calendar
X-WR-CALDESC:Your online events calendar
X-WR-TIMEZONE:America/Halifax
BEGIN:VTIMEZONE
TZID:America/Halifax
BEGIN:STANDARD
TZNAME:AST
DTSTART:20251102T020000
TZOFFSETFROM:-0300
TZOFFSETTO:-0400
RDATE:20261101T020000
END:STANDARD
BEGIN:DAYLIGHT
TZNAME:ADT
DTSTART:20260308T020000
TZOFFSETFROM:-0400
TZOFFSETTO:-0300
RDATE:20270314T020000
END:DAYLIGHT
END:VTIMEZONE
BEGIN:VEVENT
UID:20190725T220000UTC-29b968@https://www.barringtonmunicipality.com/
DTSTAMP:20260425T210649Z
CATEGORIES:Other Municipal Meetings
DESCRIPTION:<p>Agenda<br />Planning Advisory Committee</p>\n<p>August 22\, 
 2019<br />7:00 p.m.</p>\n<ol>\n<li>Additions to Agenda.</li>\n<li>Approval
  of Agenda.</li>\n<li>Approval of minutes of last meeting held June 20\, 2
 019.</li>\n<li><a class='doclink docman_track_download k-ui-namespace' hre
 f='index.php?option=com_docman&amp\;view=document&amp\;alias=2997-22-08-20
 19-public-participation&amp\;category_slug=2019-committee-of-the-whole-age
 ndas&amp\;Itemid=246' target='_blank' data-title='22 08 2019 Public Partic
 ipation' data-id='2997' type='application/pdf' data-processed='data-proces
 sed'>    
<span class='k-icon-document-pdf  ' aria-hidden='true'></span>
<sp
 an class='k-visually-hidden'>pdf</span>
Public Participation Meeting Re: Ca
 nnabis Production and Processing Uses. (7:00 p.m.)<span>(<!--
-->152 KB<!--
 
-->)</span>
</a></li>\n<li>Permitted Uses in the Rural Development Zone.</l
 i>\n<li>Set back Requirements for Lobster Tank Shops.</li>\n<li>Adjournmen
 t.</li>\n</ol>
DTSTART;TZID=America/Halifax:20190822T160000
DTEND;TZID=America/Halifax:20190822T160000
SUMMARY:Planning Advisory Committee Meeting
URL:https://www.barringtonmunicipality.com/197-other-municipal-meetings/66-
 planning-advisory-committee-meeting
X-ALT-DESC;FMTTYPE=TEXT/HTML:<p>Agenda<br />Planning Advisory Committee</p>
 \n<p>August 22\, 2019<br />7:00 p.m.</p>\n<ol>\n<li>Additions to Agenda.</
 li>\n<li>Approval of Agenda.</li>\n<li>Approval of minutes of last meeting
  held June 20\, 2019.</li>\n<li><a class='doclink docman_track_download k-
 ui-namespace' href='index.php?option=com_docman&amp\;view=document&amp\;al
 ias=2997-22-08-2019-public-participation&amp\;category_slug=2019-committee
 -of-the-whole-agendas&amp\;Itemid=246' target='_blank' data-title='22 08 2
 019 Public Participation' data-id='2997' type='application/pdf' data-proce
 ssed='data-processed'>    
<span class='k-icon-document-pdf  ' aria-hidden=
 'true'></span>
<span class='k-visually-hidden'>pdf</span>
Public Participati
 on Meeting Re: Cannabis Production and Processing Uses. (7:00 p.m.)<span>(
 <!--
-->152 KB<!--
-->)</span>
</a></li>\n<li>Permitted Uses in the Rural Dev
 elopment Zone.</li>\n<li>Set back Requirements for Lobster Tank Shops.</li
 >\n<li>Adjournment.</li>\n</ol>
END:VEVENT
END:VCALENDAR
