BEGIN:VCALENDAR
VERSION:2.0
PRODID:-//https://www.barringtonmunicipality.com//NONSGML kigkonsult.se iCa
 lcreator 2.29.29//
CALSCALE:GREGORIAN
METHOD:PUBLISH
UID:d59aa803-6e74-4ba2-a804-b3b798b95654
X-WR-CALNAME:JCal Pro Calendar
X-WR-CALDESC:Your online events calendar
X-WR-TIMEZONE:America/Halifax
BEGIN:VTIMEZONE
TZID:America/Halifax
BEGIN:STANDARD
TZNAME:AST
DTSTART:20251102T020000
TZOFFSETFROM:-0300
TZOFFSETTO:-0400
RDATE:20261101T020000
END:STANDARD
BEGIN:DAYLIGHT
TZNAME:ADT
DTSTART:20260308T020000
TZOFFSETFROM:-0400
TZOFFSETTO:-0300
RDATE:20270314T020000
END:DAYLIGHT
END:VTIMEZONE
BEGIN:VEVENT
UID:20191003T181500ADT-6466V21Wem@https://www.barringtonmunicipality.com/
DTSTAMP:20260425T210645Z
CATEGORIES:Recreation
DESCRIPTION:<p>meet at Wilson's Shopping Centre parking lot at 6:15 pm</p>
DTSTART;TZID=America/Halifax:20191003T181500
DTEND;TZID=America/Halifax:20191003T181500
SUMMARY:Walking Program
URL:https://www.barringtonmunicipality.com/198-recreation/95-walking-progra
 m
X-ALT-DESC;FMTTYPE=TEXT/HTML:<p>meet at Wilson's Shopping Centre parking lo
 t at 6:15 pm</p>
END:VEVENT
END:VCALENDAR
