BEGIN:VCALENDAR
VERSION:2.0
PRODID:-//https://www.barringtonmunicipality.com//NONSGML kigkonsult.se iCa
 lcreator 2.29.29//
CALSCALE:GREGORIAN
METHOD:PUBLISH
UID:78c520e7-065d-4499-9bf6-02c4695724e5
X-WR-CALNAME:JCal Pro Calendar
X-WR-CALDESC:Your online events calendar
X-WR-TIMEZONE:America/Halifax
BEGIN:VTIMEZONE
TZID:America/Halifax
BEGIN:STANDARD
TZNAME:AST
DTSTART:20251102T020000
TZOFFSETFROM:-0300
TZOFFSETTO:-0400
RDATE:20261101T020000
END:STANDARD
BEGIN:DAYLIGHT
TZNAME:ADT
DTSTART:20260308T020000
TZOFFSETFROM:-0400
TZOFFSETTO:-0300
RDATE:20270314T020000
END:DAYLIGHT
END:VTIMEZONE
BEGIN:VEVENT
UID:20191020T143000ADT-7212MIeJpN@https://www.barringtonmunicipality.com/
DTSTAMP:20260425T210718Z
CATEGORIES:Recreation
DESCRIPTION:<p>Sandy Wickens Memorial Arena - if you wear your Halloween co
 stume\, you can skate free!</p>
DTSTART;TZID=America/Halifax:20191020T143000
DTEND;TZID=America/Halifax:20191020T160000
SUMMARY:Halloween Skate
URL:https://www.barringtonmunicipality.com/198-recreation/121-halloween-ska
 te
X-ALT-DESC;FMTTYPE=TEXT/HTML:<p>Sandy Wickens Memorial Arena - if you wear 
 your Halloween costume\, you can skate free!</p>
END:VEVENT
END:VCALENDAR
