BEGIN:VCALENDAR
VERSION:2.0
PRODID:-//https://www.barringtonmunicipality.com//NONSGML kigkonsult.se iCa
 lcreator 2.29.29//
CALSCALE:GREGORIAN
METHOD:PUBLISH
UID:ce73e276-b249-42be-9978-1a2874ab434e
X-WR-CALNAME:JCal Pro Calendar
X-WR-CALDESC:Your online events calendar
X-WR-TIMEZONE:America/Halifax
BEGIN:VTIMEZONE
TZID:America/Halifax
BEGIN:STANDARD
TZNAME:AST
DTSTART:20251102T020000
TZOFFSETFROM:-0300
TZOFFSETTO:-0400
RDATE:20261101T020000
END:STANDARD
BEGIN:DAYLIGHT
TZNAME:ADT
DTSTART:20260308T020000
TZOFFSETFROM:-0400
TZOFFSETTO:-0300
RDATE:20270314T020000
END:DAYLIGHT
END:VTIMEZONE
BEGIN:VEVENT
UID:20191105T093000AST-76214537up@https://www.barringtonmunicipality.com/
DTSTAMP:20260425T210645Z
CATEGORIES:Recreation
DESCRIPTION:<p>10 classes per session $50</p>\n<p>Next session starts Novem
 ber 19 to December 19</p>\n<p>Roberta Hopkins is the instructor</p>
DTSTART;TZID=America/Halifax:20191105T093000
DTEND;TZID=America/Halifax:20191105T103000
RRULE:FREQ=WEEKLY;UNTIL=20191217T040000Z;INTERVAL=1;BYDAY=TU
SUMMARY:Senior Fitness
URL:https://www.barringtonmunicipality.com/198-recreation/298-senior-fitnes
 s
X-ALT-DESC;FMTTYPE=TEXT/HTML:<p>10 classes per session $50</p>\n<p>Next ses
 sion starts November 19 to December 19</p>\n<p>Roberta Hopkins is the inst
 ructor</p>
END:VEVENT
BEGIN:VEVENT
UID:20191107T100000AST-4239e14pCU@https://www.barringtonmunicipality.com/
DTSTAMP:20260425T210645Z
CATEGORIES:Recreation
DESCRIPTION:<p>price $2.00</p>
DTSTART;TZID=America/Halifax:20191105T100000
DTEND;TZID=America/Halifax:20191105T110000
RRULE:FREQ=WEEKLY;UNTIL=20191125T040000Z;INTERVAL=1;BYDAY=TU
SUMMARY:Preschool Skate
URL:https://www.barringtonmunicipality.com/198-recreation/268-preschool-ska
 te
X-ALT-DESC;FMTTYPE=TEXT/HTML:<p>price $2.00</p>
END:VEVENT
BEGIN:VEVENT
UID:20191105T100000AST-3327CZ0Rrv@https://www.barringtonmunicipality.com/
DTSTAMP:20260425T210645Z
CATEGORIES:Recreation
DESCRIPTION:<p>preschool program offered by King St. Family Resource Centre
 . Free. Drop in.</p>\n<p>Barrington Recreation Centre - small hall. For mo
 re information on this program\, please call the Family Resource Centre at
  902 875-3256.</p>
DTSTART;TZID=America/Halifax:20191105T100000
DTEND;TZID=America/Halifax:20191105T110000
RRULE:FREQ=WEEKLY;UNTIL=20191126T040000Z;INTERVAL=1;BYDAY=TU
SUMMARY:Pre-school program
URL:https://www.barringtonmunicipality.com/198-recreation/379-pre-school-pr
 ogram
X-ALT-DESC;FMTTYPE=TEXT/HTML:<p>preschool program offered by King St. Famil
 y Resource Centre. Free. Drop in.</p>\n<p>Barrington Recreation Centre - s
 mall hall. For more information on this program\, please call the Family R
 esource Centre at 902 875-3256.</p>
END:VEVENT
BEGIN:VEVENT
UID:20191105T100000AST-0650BkUz1r@https://www.barringtonmunicipality.com/
DTSTAMP:20260425T210645Z
CATEGORIES:Recreation
DESCRIPTION:<p>This program is offered at the Wesley Heritage Centre. For m
 ore information\, please call Pat Hudson at <!-- This email address is bei
 ng protected from spambots. --><span class='cloaked_email ep_1e4faecf'><sp
 an data-ep-a='b&#97\;&#114\;&#114\;i' data-ep-b='om'><span data-ep-a='&#11
 0\;&#103\;t&#111\;&#110\;' data-ep-b='a&#105\;&#108\;&#46\;&#99\;'><span d
 ata-ep-a='k&#97\;y&#97\;k' data-ep-b='e&#114\;&#64\;&#103\;&#109\;'></span
 ></span></span></span><script>RegularLabs.EmailProtector.unCloak('ep_1e4fa
 ecf')\;</script></p>
DTSTART;TZID=America/Halifax:20191105T100000
DTEND;TZID=America/Halifax:20191105T110000
RRULE:FREQ=WEEKLY;UNTIL=20191126T040000Z;INTERVAL=1;BYDAY=TU
SUMMARY:Crafts and Chat
URL:https://www.barringtonmunicipality.com/198-recreation/389-crafts-and-ch
 at
X-ALT-DESC;FMTTYPE=TEXT/HTML:<p>This program is offered at the Wesley Herit
 age Centre. For more information\, please call Pat Hudson at <!-- This ema
 il address is being protected from spambots. --><span class='cloaked_email
  ep_1e4faecf'><span data-ep-a='b&#97\;&#114\;&#114\;i' data-ep-b='om'><spa
 n data-ep-a='&#110\;&#103\;t&#111\;&#110\;' data-ep-b='a&#105\;&#108\;&#46
 \;&#99\;'><span data-ep-a='k&#97\;y&#97\;k' data-ep-b='e&#114\;&#64\;&#103
 \;&#109\;'></span></span></span></span><script>RegularLabs.EmailProtector.
 unCloak('ep_1e4faecf')\;</script></p>
END:VEVENT
BEGIN:VEVENT
UID:20191105T110000AST-4156dlwu42@https://www.barringtonmunicipality.com/
DTSTAMP:20260425T210645Z
CATEGORIES:Recreation
DESCRIPTION:<p>price $3.00</p>
DTSTART;TZID=America/Halifax:20191105T110000
DTEND;TZID=America/Halifax:20191105T120000
RRULE:FREQ=WEEKLY;UNTIL=20191126T040000Z;INTERVAL=1;BYDAY=TU
SUMMARY:Adult skate
URL:https://www.barringtonmunicipality.com/198-recreation/278-adult-skate
X-ALT-DESC;FMTTYPE=TEXT/HTML:<p>price $3.00</p>
END:VEVENT
BEGIN:VEVENT
UID:20191119T120000AST-0904W9XEdw@https://www.barringtonmunicipality.com/
DTSTAMP:20260425T210645Z
CATEGORIES:Recreation
DESCRIPTION:<p>Must pre-register by calling 902 637-2015. $7.00 / person</p
 >
DTSTART;TZID=America/Halifax:20191119T120000
DTEND;TZID=America/Halifax:20191119T140000
SUMMARY:Senior Services Christmas Tea
URL:https://www.barringtonmunicipality.com/198-recreation/400-senior-servic
 es-christmas-tea
X-ALT-DESC;FMTTYPE=TEXT/HTML:<p>Must pre-register by calling 902 637-2015. 
 $7.00 / person</p>
END:VEVENT
BEGIN:VEVENT
UID:20191105T160000AST-4512T2Mlbd@https://www.barringtonmunicipality.com/
DTSTAMP:20260425T210645Z
CATEGORIES:Recreation
DESCRIPTION:<p>price $5.00</p>\n<p>&nbsp\;</p>
DTSTART;TZID=America/Halifax:20191105T160000
DTEND;TZID=America/Halifax:20191105T170000
RRULE:FREQ=WEEKLY;UNTIL=20191126T040000Z;INTERVAL=1;BYDAY=TU
SUMMARY:4 on 4 pick up hockey ages 7-10
URL:https://www.barringtonmunicipality.com/198-recreation/286-4-on-4-pick-u
 p-hockey-ages-7-10
X-ALT-DESC;FMTTYPE=TEXT/HTML:<p>price $5.00</p>\n<p>&nbsp\;</p>
END:VEVENT
BEGIN:VEVENT
UID:20191105T190000AST-3937D0mvo2@https://www.barringtonmunicipality.com/
DTSTAMP:20260425T210645Z
CATEGORIES:Recreation
DESCRIPTION:<p>for everyone\; individual play\; no teams</p>
DTSTART;TZID=America/Halifax:20191105T190000
DTEND;TZID=America/Halifax:20191105T220000
RRULE:FREQ=WEEKLY;UNTIL=20201124T040000Z;INTERVAL=1;BYDAY=TU
SUMMARY:Darts
URL:https://www.barringtonmunicipality.com/198-recreation/316-darts
X-ALT-DESC;FMTTYPE=TEXT/HTML:<p>for everyone\; individual play\; no teams</
 p>
END:VEVENT
END:VCALENDAR
