BEGIN:VCALENDAR
VERSION:2.0
PRODID:-//https://www.barringtonmunicipality.com//NONSGML kigkonsult.se iCa
 lcreator 2.29.29//
CALSCALE:GREGORIAN
METHOD:PUBLISH
UID:d00c1311-6d21-4ea7-a33a-8f4129ce4483
X-WR-CALNAME:JCal Pro Calendar
X-WR-CALDESC:Your online events calendar
X-WR-TIMEZONE:America/Halifax
BEGIN:VTIMEZONE
TZID:America/Halifax
BEGIN:STANDARD
TZNAME:AST
DTSTART:20251102T020000
TZOFFSETFROM:-0300
TZOFFSETTO:-0400
RDATE:20261101T020000
END:STANDARD
BEGIN:DAYLIGHT
TZNAME:ADT
DTSTART:20260308T020000
TZOFFSETFROM:-0400
TZOFFSETTO:-0300
RDATE:20270314T020000
END:DAYLIGHT
END:VTIMEZONE
BEGIN:VEVENT
UID:20191106T040000AST-8258p8auUG@https://www.barringtonmunicipality.com/
DTSTAMP:20260425T210717Z
CATEGORIES:Recreation
DESCRIPTION:<p>price $5.00</p>
DTSTART;TZID=America/Halifax:20191106T040000
DTEND;TZID=America/Halifax:20191106T050000
RRULE:FREQ=WEEKLY;UNTIL=20191126T040000Z;INTERVAL=1;BYDAY=WE
SUMMARY:Teen pick up hockey ages 11-14
URL:https://www.barringtonmunicipality.com/198-recreation/290-teen-pick-up-
 hockey-ages-11-14
X-ALT-DESC;FMTTYPE=TEXT/HTML:<p>price $5.00</p>
END:VEVENT
BEGIN:VEVENT
UID:20191120T180000AST-1963mkXvow@https://www.barringtonmunicipality.com/
DTSTAMP:20260425T210717Z
CATEGORIES:Recreation
DESCRIPTION:<p>Island and Barrington Passage Fire Hall</p>
DTSTART;TZID=America/Halifax:20191120T180000
DTEND;TZID=America/Halifax:20191120T210000
SUMMARY:Ladies Christmas Shopping Party
URL:https://www.barringtonmunicipality.com/198-recreation/401-ladies-christ
 mas-shopping-party
X-ALT-DESC;FMTTYPE=TEXT/HTML:<p>Island and Barrington Passage Fire Hall</p>
END:VEVENT
END:VCALENDAR
