BEGIN:VCALENDAR
VERSION:2.0
PRODID:-//https://www.barringtonmunicipality.com//NONSGML kigkonsult.se iCa
 lcreator 2.29.29//
CALSCALE:GREGORIAN
METHOD:PUBLISH
UID:5fe5399a-5e19-443a-839a-cd0dd13f4480
X-WR-CALNAME:JCal Pro Calendar
X-WR-CALDESC:Your online events calendar
X-WR-TIMEZONE:America/Halifax
BEGIN:VTIMEZONE
TZID:America/Halifax
BEGIN:STANDARD
TZNAME:AST
DTSTART:20251102T020000
TZOFFSETFROM:-0300
TZOFFSETTO:-0400
RDATE:20261101T020000
END:STANDARD
BEGIN:DAYLIGHT
TZNAME:ADT
DTSTART:20260308T020000
TZOFFSETFROM:-0400
TZOFFSETTO:-0300
RDATE:20270314T020000
END:DAYLIGHT
END:VTIMEZONE
BEGIN:VEVENT
UID:20191108T170000AST-5117ptVLvR@https://www.barringtonmunicipality.com/
DTSTAMP:20260425T210644Z
CATEGORIES:Recreation
DESCRIPTION:<p>Price: preschool (under 5) $2.00</p>\n<p>Teen/youth (5-18) $
 2.50</p>\n<p>Adults (19 &amp\; over) $3.00</p>\n<p>Pick up hockey (all age
 s) $5.00</p>\n<p>Skate Sharpening $5.00</p>\n<p>Hospitality Room (rental w
 ithout ice) $30.00 includes tax</p>
DTSTART;TZID=America/Halifax:20191108T170000
DTEND;TZID=America/Halifax:20191108T183000
RRULE:FREQ=WEEKLY;UNTIL=20191129T040000Z;INTERVAL=1;BYDAY=FR
SUMMARY:Public Skate
URL:https://www.barringtonmunicipality.com/198-recreation/156-public-skate
X-ALT-DESC;FMTTYPE=TEXT/HTML:<p>Price: preschool (under 5) $2.00</p>\n<p>Te
 en/youth (5-18) $2.50</p>\n<p>Adults (19 &amp\; over) $3.00</p>\n<p>Pick u
 p hockey (all ages) $5.00</p>\n<p>Skate Sharpening $5.00</p>\n<p>Hospitali
 ty Room (rental without ice) $30.00 includes tax</p>
END:VEVENT
BEGIN:VEVENT
UID:20191122T180000AST-35465WDVVn@https://www.barringtonmunicipality.com/
DTSTAMP:20260425T210644Z
CATEGORIES:Recreation
DESCRIPTION:<p>Location: Wesley Heritage Centre\, Barrington. For more info
 .\, contact Pat Hudson at <!-- This email address is being protected from 
 spambots. --><span class='cloaked_email ep_a1d14691'><span data-ep-a='&#98
 \;&#97\;&#114\;&#114\;&#105\;' data-ep-b='&#111\;m'><span data-ep-b='a&#10
 5\;&#108\;&#46\;&#99\;' data-ep-a='&#110\;&#103\;&#116\;&#111\;&#110\;'><s
 pan data-ep-a='&#107\;a&#121\;&#97\;&#107\;' data-ep-b='e&#114\;&#64\;g&#1
 09\;'></span></span></span></span><script>RegularLabs.EmailProtector.unClo
 ak('ep_a1d14691')\;</script></p>
DTSTART;TZID=America/Halifax:20191122T180000
DTEND;TZID=America/Halifax:20191122T210000
SUMMARY:Wesley Heritage Centre Potluck Supper/Kitchen Party
URL:https://www.barringtonmunicipality.com/198-recreation/397-wesley-herita
 ge-centre-potluck-supper-kitchen-party
X-ALT-DESC;FMTTYPE=TEXT/HTML:<p>Location: Wesley Heritage Centre\, Barringt
 on. For more info.\, contact Pat Hudson at <!-- This email address is bein
 g protected from spambots. --><span class='cloaked_email ep_a1d14691'><spa
 n data-ep-a='&#98\;&#97\;&#114\;&#114\;&#105\;' data-ep-b='&#111\;m'><span
  data-ep-b='a&#105\;&#108\;&#46\;&#99\;' data-ep-a='&#110\;&#103\;&#116\;&
 #111\;&#110\;'><span data-ep-a='&#107\;a&#121\;&#97\;&#107\;' data-ep-b='e
 &#114\;&#64\;g&#109\;'></span></span></span></span><script>RegularLabs.Ema
 ilProtector.unCloak('ep_a1d14691')\;</script></p>
END:VEVENT
END:VCALENDAR
