BEGIN:VCALENDAR
VERSION:2.0
PRODID:-//https://www.barringtonmunicipality.com//NONSGML kigkonsult.se iCa
 lcreator 2.29.29//
CALSCALE:GREGORIAN
METHOD:PUBLISH
UID:8d1a2137-c932-496b-974c-b4efafe043b0
X-WR-CALNAME:JCal Pro Calendar
X-WR-CALDESC:Your online events calendar
X-WR-TIMEZONE:America/Halifax
BEGIN:VTIMEZONE
TZID:America/Halifax
BEGIN:STANDARD
TZNAME:AST
DTSTART:20251102T020000
TZOFFSETFROM:-0300
TZOFFSETTO:-0400
RDATE:20261101T020000
END:STANDARD
BEGIN:DAYLIGHT
TZNAME:ADT
DTSTART:20260308T020000
TZOFFSETFROM:-0400
TZOFFSETTO:-0300
RDATE:20270314T020000
END:DAYLIGHT
END:VTIMEZONE
BEGIN:VEVENT
UID:20191110T143000AST-03981tnR6I@https://www.barringtonmunicipality.com/
DTSTAMP:20260425T210628Z
CATEGORIES:Recreation
DESCRIPTION:<p>Price: preschool (under 5) $2.00</p>\n<p>Teen/Youth (5 - 18)
  $2.50</p>\n<p>Adults (19 &amp\; over) $3.00</p>\n<p>PIck up hockey (all a
 ges) $5</p>\n<p>Skate sharpening $5</p>\n<p>Hospitality Room (without ice 
 rental) $30 taxes included</p>
DTSTART;TZID=America/Halifax:20191110T143000
DTEND;TZID=America/Halifax:20191110T160000
RRULE:FREQ=WEEKLY;UNTIL=20191124T040000Z;INTERVAL=1;BYDAY=SU
SUMMARY:Public Skate
URL:https://www.barringtonmunicipality.com/198-recreation/212-public-skate
X-ALT-DESC;FMTTYPE=TEXT/HTML:<p>Price: preschool (under 5) $2.00</p>\n<p>Te
 en/Youth (5 - 18) $2.50</p>\n<p>Adults (19 &amp\; over) $3.00</p>\n<p>PIck
  up hockey (all ages) $5</p>\n<p>Skate sharpening $5</p>\n<p>Hospitality R
 oom (without ice rental) $30 taxes included</p>
END:VEVENT
END:VCALENDAR
