BEGIN:VCALENDAR
VERSION:2.0
PRODID:-//https://www.barringtonmunicipality.com//NONSGML kigkonsult.se iCa
 lcreator 2.29.29//
CALSCALE:GREGORIAN
METHOD:PUBLISH
UID:e9cc6882-148a-4efa-86e2-823a98ed1da2
X-WR-CALNAME:JCal Pro Calendar
X-WR-CALDESC:Your online events calendar
X-WR-TIMEZONE:America/Halifax
BEGIN:VTIMEZONE
TZID:America/Halifax
BEGIN:STANDARD
TZNAME:AST
DTSTART:20251102T020000
TZOFFSETFROM:-0300
TZOFFSETTO:-0400
RDATE:20261101T020000
END:STANDARD
BEGIN:DAYLIGHT
TZNAME:ADT
DTSTART:20260308T020000
TZOFFSETFROM:-0400
TZOFFSETTO:-0300
RDATE:20270314T020000
END:DAYLIGHT
END:VTIMEZONE
BEGIN:VEVENT
UID:20191127T040000AST-5027PfxL2x@https://www.barringtonmunicipality.com/
DTSTAMP:20260425T210644Z
CATEGORIES:Recreation
DESCRIPTION:<p>Sandy Wickens Memorial Arena</p>
DTSTART;TZID=America/Halifax:20191127T040000
DTEND;TZID=America/Halifax:20191127T050000
SUMMARY:Teen pick up hockey ages 11-14
URL:https://www.barringtonmunicipality.com/198-recreation/449-teen-pick-up-
 hockey-ages-11-14
X-ALT-DESC;FMTTYPE=TEXT/HTML:<p>Sandy Wickens Memorial Arena</p>
END:VEVENT
END:VCALENDAR
