BEGIN:VCALENDAR
VERSION:2.0
PRODID:-//https://www.barringtonmunicipality.com//NONSGML kigkonsult.se iCa
 lcreator 2.29.29//
CALSCALE:GREGORIAN
METHOD:PUBLISH
UID:12c93179-f562-4056-a0c9-226bbbd6ff84
X-WR-CALNAME:JCal Pro Calendar
X-WR-CALDESC:Your online events calendar
X-WR-TIMEZONE:America/Halifax
BEGIN:VTIMEZONE
TZID:America/Halifax
BEGIN:STANDARD
TZNAME:AST
DTSTART:20251102T020000
TZOFFSETFROM:-0300
TZOFFSETTO:-0400
RDATE:20261101T020000
END:STANDARD
BEGIN:DAYLIGHT
TZNAME:ADT
DTSTART:20260308T020000
TZOFFSETFROM:-0400
TZOFFSETTO:-0300
RDATE:20270314T020000
END:DAYLIGHT
END:VTIMEZONE
BEGIN:VEVENT
UID:20191105T100000AST-77652nh9gT@https://www.barringtonmunicipality.com/
DTSTAMP:20260425T210647Z
CATEGORIES:Recreation
DESCRIPTION:<p>preschool program offered by recreation department. Crafts\,
  outdoor play\, drop in.</p>\n<p>for more information on the program\, ple
 ase call the recreation department at 902 637-2015.</p>
DTSTART;TZID=America/Halifax:20191107T010000
DTEND;TZID=America/Halifax:20191107T020000
RRULE:FREQ=WEEKLY;UNTIL=20191128T040000Z;INTERVAL=1;BYDAY=TH
SUMMARY:Preschool program (rec)
URL:https://www.barringtonmunicipality.com/198-recreation/372-preschool-pro
 gram
X-ALT-DESC;FMTTYPE=TEXT/HTML:<p>preschool program offered by recreation dep
 artment. Crafts\, outdoor play\, drop in.</p>\n<p>for more information on 
 the program\, please call the recreation department at 902 637-2015.</p>
END:VEVENT
BEGIN:VEVENT
UID:20191107T093000AST-9607HONOJi@https://www.barringtonmunicipality.com/
DTSTAMP:20260425T210647Z
CATEGORIES:Recreation
DESCRIPTION:<p>10 classes per session $50</p>\n<p>next session November 19 
 to December19</p>
DTSTART;TZID=America/Halifax:20191107T093000
DTEND;TZID=America/Halifax:20191107T103000
RRULE:FREQ=WEEKLY;UNTIL=20191219T040000Z;INTERVAL=1;BYDAY=TH
SUMMARY:Senior Fitness
URL:https://www.barringtonmunicipality.com/198-recreation/305-senior-fitnes
 s
X-ALT-DESC;FMTTYPE=TEXT/HTML:<p>10 classes per session $50</p>\n<p>next ses
 sion November 19 to December19</p>
END:VEVENT
BEGIN:VEVENT
UID:20191107T100000AST-3594Pf7SoL@https://www.barringtonmunicipality.com/
DTSTAMP:20260425T210647Z
CATEGORIES:Recreation
DESCRIPTION:<p>price $2.00</p>
DTSTART;TZID=America/Halifax:20191107T100000
DTEND;TZID=America/Halifax:20191107T110000
RRULE:FREQ=WEEKLY;UNTIL=20191128T040000Z;INTERVAL=1;BYDAY=TH
SUMMARY:Preschool skate
URL:https://www.barringtonmunicipality.com/198-recreation/274-preschool-ska
 te
X-ALT-DESC;FMTTYPE=TEXT/HTML:<p>price $2.00</p>
END:VEVENT
BEGIN:VEVENT
UID:20191107T110000AST-11950PLGFt@https://www.barringtonmunicipality.com/
DTSTAMP:20260425T210647Z
CATEGORIES:Recreation
DESCRIPTION:<p>price $3.00</p>
DTSTART;TZID=America/Halifax:20191107T110000
DTEND;TZID=America/Halifax:20191107T120000
RRULE:FREQ=WEEKLY;UNTIL=20191128T040000Z;INTERVAL=1;BYDAY=TH
SUMMARY:Adult skate
URL:https://www.barringtonmunicipality.com/198-recreation/282-adult-skate
X-ALT-DESC;FMTTYPE=TEXT/HTML:<p>price $3.00</p>
END:VEVENT
BEGIN:VEVENT
UID:20191107T180000AST-1467t0abs8@https://www.barringtonmunicipality.com/
DTSTAMP:20260425T210647Z
CATEGORIES:Recreation
DESCRIPTION:<p>Every Thursdays\, 6 pm to 8 pm\, Recreation Centre</p>\n<p>A
 ges 7 - 16 - $5.00\; Ages 17 and up - $10</p>\n<p>Instructor Jacob Almero<
 /p>
DTSTART;TZID=America/Halifax:20191107T180000
DTEND;TZID=America/Halifax:20191107T200000
RRULE:FREQ=WEEKLY;UNTIL=20191128T040000Z;INTERVAL=1;BYDAY=TH
SUMMARY:Kung Fu
URL:https://www.barringtonmunicipality.com/198-recreation/312-kung-fu
X-ALT-DESC;FMTTYPE=TEXT/HTML:<p>Every Thursdays\, 6 pm to 8 pm\, Recreation
  Centre</p>\n<p>Ages 7 - 16 - $5.00\; Ages 17 and up - $10</p>\n<p>Instruc
 tor Jacob Almero</p>
END:VEVENT
END:VCALENDAR
