BEGIN:VCALENDAR
VERSION:2.0
PRODID:-//https://www.barringtonmunicipality.com//NONSGML kigkonsult.se iCa
 lcreator 2.29.29//
CALSCALE:GREGORIAN
METHOD:PUBLISH
UID:ac405bbe-13b3-41ae-8b52-a547e6332f75
X-WR-CALNAME:JCal Pro Calendar
X-WR-CALDESC:Your online events calendar
X-WR-TIMEZONE:America/Halifax
BEGIN:VTIMEZONE
TZID:America/Halifax
BEGIN:STANDARD
TZNAME:AST
DTSTART:20251102T020000
TZOFFSETFROM:-0300
TZOFFSETTO:-0400
RDATE:20261101T020000
END:STANDARD
BEGIN:DAYLIGHT
TZNAME:ADT
DTSTART:20260308T020000
TZOFFSETFROM:-0400
TZOFFSETTO:-0300
RDATE:20270314T020000
END:DAYLIGHT
END:VTIMEZONE
BEGIN:VEVENT
UID:20191201T010000AST-2885ntV9mZ@https://www.barringtonmunicipality.com/
DTSTAMP:20260425T221848Z
CATEGORIES:Recreation
DESCRIPTION:<p>organized by Chamber of Commerce. Tickets can be purchased a
 t Wilson's Shopping Centre. Visiting Villagedale Road and Clyde area.</p>
DTSTART;TZID=America/Halifax:20191201T010000
DTEND;TZID=America/Halifax:20191201T050000
SUMMARY:Christmas House Tour
URL:https://www.barringtonmunicipality.com/198-recreation/415-christmas-hou
 se-tour
X-ALT-DESC;FMTTYPE=TEXT/HTML:<p>organized by Chamber of Commerce. Tickets c
 an be purchased at Wilson's Shopping Centre. Visiting Villagedale Road and
  Clyde area.</p>
END:VEVENT
BEGIN:VEVENT
UID:20191201T143000AST-5757kGXWbv@https://www.barringtonmunicipality.com/
DTSTAMP:20260425T221848Z
CATEGORIES:Recreation
DESCRIPTION:<p>Sandy Wickens Memorial Arena</p>
DTSTART;TZID=America/Halifax:20191201T143000
DTEND;TZID=America/Halifax:20191201T160000
RRULE:FREQ=WEEKLY;COUNT=4;INTERVAL=1;BYDAY=SU
SUMMARY:Public Skating
URL:https://www.barringtonmunicipality.com/198-recreation/424-public-skatin
 g
X-ALT-DESC;FMTTYPE=TEXT/HTML:<p>Sandy Wickens Memorial Arena</p>
END:VEVENT
END:VCALENDAR
