BEGIN:VCALENDAR
VERSION:2.0
PRODID:-//https://www.barringtonmunicipality.com//NONSGML kigkonsult.se iCa
 lcreator 2.29.29//
CALSCALE:GREGORIAN
METHOD:PUBLISH
UID:9f9dad66-6dd8-45f4-936c-676088c3487f
X-WR-CALNAME:JCal Pro Calendar
X-WR-CALDESC:Your online events calendar
X-WR-TIMEZONE:America/Halifax
BEGIN:VTIMEZONE
TZID:America/Halifax
BEGIN:STANDARD
TZNAME:AST
DTSTART:20251102T020000
TZOFFSETFROM:-0300
TZOFFSETTO:-0400
RDATE:20261101T020000
END:STANDARD
BEGIN:DAYLIGHT
TZNAME:ADT
DTSTART:20260308T020000
TZOFFSETFROM:-0400
TZOFFSETTO:-0300
RDATE:20270314T020000
END:DAYLIGHT
END:VTIMEZONE
BEGIN:VEVENT
UID:20191224T090000AST-8435mdC2aZ@https://www.barringtonmunicipality.com/
DTSTAMP:20260425T221844Z
CATEGORIES:Recreation
DTSTART;TZID=America/Halifax:20191224T090000
DTEND;TZID=America/Halifax:20200101T101600
SUMMARY:Rec Dept closed
URL:https://www.barringtonmunicipality.com/198-recreation/455-rec-dept-clos
 ed
END:VEVENT
BEGIN:VEVENT
UID:20191231T090000AST-43912xWxUg@https://www.barringtonmunicipality.com/
DTSTAMP:20260425T221844Z
CATEGORIES:Recreation
DTSTART;TZID=America/Halifax:20191231T090000
DTEND;TZID=America/Halifax:20191231T170000
SUMMARY:Arena opened from 9 am to 5 pm
URL:https://www.barringtonmunicipality.com/198-recreation/453-arena-opened-
 from-9-am-to-5-pm
END:VEVENT
BEGIN:VEVENT
UID:20191217T100000AST-4127WMfvDE@https://www.barringtonmunicipality.com/
DTSTAMP:20260425T221844Z
CATEGORIES:Recreation
DESCRIPTION:<p>Sandy Wickens Memorial Arena</p>
DTSTART;TZID=America/Halifax:20191217T100000
DTEND;TZID=America/Halifax:20191217T110000
RRULE:FREQ=WEEKLY;COUNT=3;INTERVAL=1;BYDAY=TU
SUMMARY:Pre-school skating
URL:https://www.barringtonmunicipality.com/198-recreation/428-pre-school-sk
 ating
X-ALT-DESC;FMTTYPE=TEXT/HTML:<p>Sandy Wickens Memorial Arena</p>
END:VEVENT
END:VCALENDAR
