BEGIN:VCALENDAR
VERSION:2.0
PRODID:-//https://www.barringtonmunicipality.com//NONSGML kigkonsult.se iCa
 lcreator 2.29.29//
CALSCALE:GREGORIAN
METHOD:PUBLISH
UID:2c75aab4-ea27-498e-9c9d-70912a5be335
X-WR-CALNAME:JCal Pro Calendar
X-WR-CALDESC:Your online events calendar
X-WR-TIMEZONE:America/Halifax
BEGIN:VTIMEZONE
TZID:America/Halifax
BEGIN:STANDARD
TZNAME:AST
DTSTART:20251102T020000
TZOFFSETFROM:-0300
TZOFFSETTO:-0400
RDATE:20261101T020000
END:STANDARD
BEGIN:DAYLIGHT
TZNAME:ADT
DTSTART:20260308T020000
TZOFFSETFROM:-0400
TZOFFSETTO:-0300
RDATE:20270314T020000
END:DAYLIGHT
END:VTIMEZONE
BEGIN:VEVENT
UID:20191224T090000AST-8435mdC2aZ@https://www.barringtonmunicipality.com/
DTSTAMP:20260425T221904Z
CATEGORIES:Recreation
DTSTART;TZID=America/Halifax:20191224T090000
DTEND;TZID=America/Halifax:20200101T101600
SUMMARY:Rec Dept closed
URL:https://www.barringtonmunicipality.com/198-recreation/455-rec-dept-clos
 ed
END:VEVENT
BEGIN:VEVENT
UID:20200101T090000AST-8335MK7Bsv@https://www.barringtonmunicipality.com/
DTSTAMP:20260425T221904Z
CATEGORIES:Recreation
DTSTART;TZID=America/Halifax:20200101T090000
DTEND;TZID=America/Halifax:20200101T210000
SUMMARY:Arena closed all day
URL:https://www.barringtonmunicipality.com/198-recreation/454-arena-closed-
 all-day
END:VEVENT
END:VCALENDAR
