BEGIN:VCALENDAR
VERSION:2.0
PRODID:-//https://www.barringtonmunicipality.com//NONSGML kigkonsult.se iCa
 lcreator 2.29.29//
CALSCALE:GREGORIAN
METHOD:PUBLISH
UID:8867b3c1-96a0-4d14-863e-3b1dacb4459e
X-WR-CALNAME:JCal Pro Calendar
X-WR-CALDESC:Your online events calendar
X-WR-TIMEZONE:America/Halifax
BEGIN:VTIMEZONE
TZID:America/Halifax
BEGIN:STANDARD
TZNAME:AST
DTSTART:20251102T020000
TZOFFSETFROM:-0300
TZOFFSETTO:-0400
RDATE:20261101T020000
END:STANDARD
BEGIN:DAYLIGHT
TZNAME:ADT
DTSTART:20260308T020000
TZOFFSETFROM:-0400
TZOFFSETTO:-0300
RDATE:20270314T020000
END:DAYLIGHT
END:VTIMEZONE
BEGIN:VEVENT
UID:20200127T190000AST-0669uVkldd@https://www.barringtonmunicipality.com/
DTSTAMP:20260425T210713Z
CATEGORIES:Council Meetings
DESCRIPTION:<h3>AGENDA<br />BARRINGTON MUNICIPAL COUNCIL<br />COUNCIL CHAMB
 ERS\, ADMINISTRATIVE CENTRE<br />BARRINGTON\, N.S.</h3>\n<p>January 27\, 2
 020<br />7:00 p.m.</p>\n<p>&nbsp\;</p>\n<p>1. Moment of Silence.</p>\n<p>2
 . Additions to the Agenda.</p>\n<p>3. Approval of the Agenda.</p>\n<p>4. D
 eclarations of Conflict of Interest.</p>\n<p>5. Approval of minutes of the
  Regular Meeting held <a class='doclink docman_track_download k-ui-namespa
 ce' href='index.php?option=com_docman&amp\;view=document&amp\;alias=3446-2
 019-12-09-regular-council-meeting-2&amp\;category_slug=2020-council-agenda
 s&amp\;Itemid=246' target='_blank' data-title='2019 12 09 Regular Council 
 Meeting' data-id='3446' type='application/pdf' data-processed='data-proces
 sed'>    
<span class='k-icon-document-pdf  ' aria-hidden='true'></span>
<sp
 an class='k-visually-hidden'>pdf</span>
December 9\, 2019<span>(<!--
-->7.82
  MB<!--
-->)</span>
</a>.</p>\n<p>6. Matters Arising from Minutes: - <a clas
 s='doclink docman_track_download k-ui-namespace' href='index.php?option=co
 m_docman&amp\;view=document&amp\;alias=3449-2020-01-27-cannabis&amp\;categ
 ory_slug=2020-council-agendas&amp\;Itemid=246' target='_blank' data-title=
 '2020 01 27 cannabis' data-id='3449' type='application/pdf' data-processed
 ='data-processed'>    
<span class='k-icon-document-pdf  ' aria-hidden='tru
 e'></span>
<span class='k-visually-hidden'>pdf</span>
Staff Report<span>(<!-
 -
-->314 KB<!--
-->)</span>
</a> Re: Existing Cannabis Production Facilities 
 in other municipalities.</p>\n<p>7. Reports:<br />&nbsp\; &nbsp\; &nbsp\; 
 &nbsp\; &nbsp\; &nbsp\; &nbsp\; &nbsp\;- Report of Warden<br />&nbsp\; &nb
 sp\; &nbsp\; &nbsp\; &nbsp\; &nbsp\; &nbsp\; &nbsp\;- Report of Councillor
 s<br />&nbsp\; &nbsp\; &nbsp\; &nbsp\; &nbsp\; &nbsp\; &nbsp\; &nbsp\;- <a
  class='doclink docman_track_download k-ui-namespace' href='index.php?opti
 on=com_docman&amp\;view=document&amp\;alias=3452-2020-01-27-recommendatoin
 s-january-2020&amp\;category_slug=2020-council-agendas&amp\;Itemid=246' ta
 rget='_blank' data-title='2020 01 27 Recommendatoins\, January 2020' data-
 id='3452' type='application/pdf' data-processed='data-processed'>    
<span
  class='k-icon-document-pdf  ' aria-hidden='true'></span>
<span class='k-vi
 sually-hidden'>pdf</span>
 Report from Committee of the Whole Council. <spa
 n>(<!--
-->18 KB<!--
-->)</span>
</a>(Deputy Warden Crook)<br />&nbsp\; &nbsp
 \; &nbsp\; &nbsp\; &nbsp\; &nbsp\; &nbsp\; &nbsp\;- <a class='doclink docm
 an_track_download k-ui-namespace' href='index.php?option=com_docman&amp\;v
 iew=document&amp\;alias=3454-2020-01-27-staff-report-january-27-2020&amp\;
 category_slug=2020-council-agendas&amp\;Itemid=246' target='_blank' data-t
 itle='2020 01 27 Staff Report January 27\, 2020' data-id='3454' type='appl
 ication/pdf' data-processed='data-processed'>    
<span class='k-icon-docum
 ent-pdf  ' aria-hidden='true'></span>
<span class='k-visually-hidden'>pdf</
 span>
 Staff Report<span>(<!--
-->530 KB<!--
-->)</span>
</a></p>\n<p>8. New o
 r Other Business:<br />&nbsp\; &nbsp\; &nbsp\; &nbsp\; &nbsp\; &nbsp\; &nb
 sp\; &nbsp\;- <a class='doclink docman_track_download k-ui-namespace' href
 ='index.php?option=com_docman&amp\;view=document&amp\;alias=3455-2020-01-2
 7-variance-appeal&amp\;category_slug=2020-council-agendas&amp\;Itemid=246'
  target='_blank' data-title='2020 01 27 Variance Appeal' data-id='3455' ty
 pe='application/pdf' data-processed='data-processed'>    
<span class='k-ic
 on-document-pdf  ' aria-hidden='true'></span>
<span class='k-visually-hidde
 n'>pdf</span>
George El-Jakl Variance Appeal<span>(<!--
-->54 KB<!--
-->)</sp
 an>
</a>. (7:30 p.m.)<br />&nbsp\; &nbsp\; &nbsp\; &nbsp\; &nbsp\; &nbsp\; 
 &nbsp\; &nbsp\;- Consideration of amendments - <a class='doclink docman_tr
 ack_download k-ui-namespace' href='index.php?option=com_docman&amp\;view=d
 ocument&amp\;alias=3451-2020-01-27-policy-59-policy-on-committees-of-counc
 il-nov-2019&amp\;category_slug=2020-council-agendas&amp\;Itemid=246' targe
 t='_blank' data-title='2020 01 27 Policy 59 Policy on Committees of Counci
 l Nov\, 2019' data-id='3451' type='application/pdf' data-processed='data-p
 rocessed'>    
<span class='k-icon-document-pdf  ' aria-hidden='true'></spa
 n>
<span class='k-visually-hidden'>pdf</span>
 Policy 59 “Policy on Committe
 es of Council”<span>(<!--
-->127 KB<!--
-->)</span>
</a>.<br />&nbsp\; &nbsp\
 ; &nbsp\; &nbsp\; &nbsp\; &nbsp\; &nbsp\; &nbsp\;- First Reading - Propose
 d amendments to <a class='doclink docman_track_download k-ui-namespace' hr
 ef='index.php?option=com_docman&amp\;view=document&amp\;alias=3447-2020-01
 -27-by-law-no-25-tax-exemption&amp\;category_slug=2020-council-agendas&amp
 \;Itemid=246' target='_blank' data-title='2020 01 27 By law No 25 Tax Exem
 ption' data-id='3447' type='application/pdf' data-processed='data-processe
 d'>    
<span class='k-icon-document-pdf  ' aria-hidden='true'></span>
<span
  class='k-visually-hidden'>pdf</span>
By-law 25 “Tax Exemption By-law<span>
 (<!--
-->26 KB<!--
-->)</span>
</a>”. <br />&nbsp\; &nbsp\; &nbsp\; &nbsp\; &
 nbsp\; &nbsp\; &nbsp\; &nbsp\;- First Reading - Proposed amendments to <a 
 class='doclink docman_track_download k-ui-namespace' href='index.php?optio
 n=com_docman&amp\;view=document&amp\;alias=3448-2020-01-27-by-law-no-34-co
 mmerical-activity-of-municipal-property&amp\;category_slug=2020-council-ag
 endas&amp\;Itemid=246' target='_blank' data-title='2020 01 27 By Law No 34
  Commerical Activity of Municipal Property' data-id='3448' type='applicati
 on/pdf' data-processed='data-processed'>    
<span class='k-icon-document-p
 df  ' aria-hidden='true'></span>
<span class='k-visually-hidden'>pdf</span>
 
 By-law No. 34 “Commercial Activity on Municipal Property”<span>(<!--
-->28
  KB<!--
-->)</span>
</a>.<br />&nbsp\; &nbsp\; &nbsp\; &nbsp\; &nbsp\; &nbsp
 \; &nbsp\; &nbsp\;-&nbsp\; Marathon Committee Member Resignations.<br />&n
 bsp\; &nbsp\; &nbsp\; &nbsp\; &nbsp\; &nbsp\; &nbsp\; &nbsp\;- <a class='d
 oclink docman_track_download k-ui-namespace' href='index.php?option=com_do
 cman&amp\;view=document&amp\;alias=3450-2020-01-27-council-for-a-day-conte
 st&amp\;category_slug=2020-council-agendas&amp\;Itemid=246' target='_blank
 ' data-title='2020 01 27 Council for a Day Contest' data-id='3450' type='a
 pplication/pdf' data-processed='data-processed'>    
<span class='k-icon-do
 cument-pdf  ' aria-hidden='true'></span>
<span class='k-visually-hidden'>pd
 f</span>
Council for a Day Contest Winners<span>(<!--
-->269 KB<!--
-->)</spa
 n>
</a></p>\n<p>9. Correspondence:</p>\n<p>10. Agenda Items for Future Meet
 ings.</p>\n<p>11. Adjournment.<br />&nbsp\; &nbsp\; &nbsp\; &nbsp\; &nbsp\
 ; &nbsp\; &nbsp\; &nbsp\; &nbsp\; &nbsp\; &nbsp\; &nbsp\; &nbsp\; &nbsp\; 
 &nbsp\; &nbsp\; &nbsp\; &nbsp\; &nbsp\; &nbsp\; &nbsp\; &nbsp\; &nbsp\; &n
 bsp\; &nbsp\; &nbsp\; &nbsp\; &nbsp\; &nbsp\; &nbsp\; &nbsp\; &nbsp\; &nbs
 p\; &nbsp\; &nbsp\; &nbsp\; &nbsp\; _________________________________</p>
 \n<p>&nbsp\; &nbsp\; &nbsp\; &nbsp\; &nbsp\; &nbsp\; &nbsp\; &nbsp\; &nbsp
 \; &nbsp\; &nbsp\; &nbsp\; &nbsp\; &nbsp\; &nbsp\; &nbsp\; &nbsp\; &nbsp\;
  &nbsp\; &nbsp\; &nbsp\; &nbsp\; &nbsp\; &nbsp\; &nbsp\; &nbsp\; &nbsp\; &
 nbsp\; &nbsp\; &nbsp\; &nbsp\; &nbsp\; &nbsp\; &nbsp\; &nbsp\; &nbsp\; &nb
 sp\; &nbsp\; &nbsp\; &nbsp\; &nbsp\; &nbsp\; &nbsp\; &nbsp\; &nbsp\; &nbsp
 \; Chris Frotten\, CAO</p>
DTSTART;TZID=America/Halifax:20200127T190000
DTEND;TZID=America/Halifax:20200127T190000
SUMMARY:Council Meeting (2)
URL:https://www.barringtonmunicipality.com/194-council-meetings/459-council
 -meeting-2
X-ALT-DESC;FMTTYPE=TEXT/HTML:<h3>AGENDA<br />BARRINGTON MUNICIPAL COUNCIL<b
 r />COUNCIL CHAMBERS\, ADMINISTRATIVE CENTRE<br />BARRINGTON\, N.S.</h3>\n
 <p>January 27\, 2020<br />7:00 p.m.</p>\n<p>&nbsp\;</p>\n<p>1. Moment of S
 ilence.</p>\n<p>2. Additions to the Agenda.</p>\n<p>3. Approval of the Age
 nda.</p>\n<p>4. Declarations of Conflict of Interest.</p>\n<p>5. Approval 
 of minutes of the Regular Meeting held <a class='doclink docman_track_down
 load k-ui-namespace' href='index.php?option=com_docman&amp\;view=document&
 amp\;alias=3446-2019-12-09-regular-council-meeting-2&amp\;category_slug=20
 20-council-agendas&amp\;Itemid=246' target='_blank' data-title='2019 12 09
  Regular Council Meeting' data-id='3446' type='application/pdf' data-proce
 ssed='data-processed'>    
<span class='k-icon-document-pdf  ' aria-hidden=
 'true'></span>
<span class='k-visually-hidden'>pdf</span>
December 9\, 2019<
 span>(<!--
-->7.82 MB<!--
-->)</span>
</a>.</p>\n<p>6. Matters Arising from M
 inutes: - <a class='doclink docman_track_download k-ui-namespace' href='in
 dex.php?option=com_docman&amp\;view=document&amp\;alias=3449-2020-01-27-ca
 nnabis&amp\;category_slug=2020-council-agendas&amp\;Itemid=246' target='_b
 lank' data-title='2020 01 27 cannabis' data-id='3449' type='application/pd
 f' data-processed='data-processed'>    
<span class='k-icon-document-pdf  '
  aria-hidden='true'></span>
<span class='k-visually-hidden'>pdf</span>
Staff
  Report<span>(<!--
-->314 KB<!--
-->)</span>
</a> Re: Existing Cannabis Produ
 ction Facilities in other municipalities.</p>\n<p>7. Reports:<br />&nbsp\;
  &nbsp\; &nbsp\; &nbsp\; &nbsp\; &nbsp\; &nbsp\; &nbsp\;- Report of Warden
 <br />&nbsp\; &nbsp\; &nbsp\; &nbsp\; &nbsp\; &nbsp\; &nbsp\; &nbsp\;- Rep
 ort of Councillors<br />&nbsp\; &nbsp\; &nbsp\; &nbsp\; &nbsp\; &nbsp\; &n
 bsp\; &nbsp\;- <a class='doclink docman_track_download k-ui-namespace' hre
 f='index.php?option=com_docman&amp\;view=document&amp\;alias=3452-2020-01-
 27-recommendatoins-january-2020&amp\;category_slug=2020-council-agendas&am
 p\;Itemid=246' target='_blank' data-title='2020 01 27 Recommendatoins\, Ja
 nuary 2020' data-id='3452' type='application/pdf' data-processed='data-pro
 cessed'>    
<span class='k-icon-document-pdf  ' aria-hidden='true'></span>
 
<span class='k-visually-hidden'>pdf</span>
 Report from Committee of the Wh
 ole Council. <span>(<!--
-->18 KB<!--
-->)</span>
</a>(Deputy Warden Crook)<b
 r />&nbsp\; &nbsp\; &nbsp\; &nbsp\; &nbsp\; &nbsp\; &nbsp\; &nbsp\;- <a cl
 ass='doclink docman_track_download k-ui-namespace' href='index.php?option=
 com_docman&amp\;view=document&amp\;alias=3454-2020-01-27-staff-report-janu
 ary-27-2020&amp\;category_slug=2020-council-agendas&amp\;Itemid=246' targe
 t='_blank' data-title='2020 01 27 Staff Report January 27\, 2020' data-id=
 '3454' type='application/pdf' data-processed='data-processed'>    
<span cl
 ass='k-icon-document-pdf  ' aria-hidden='true'></span>
<span class='k-visua
 lly-hidden'>pdf</span>
 Staff Report<span>(<!--
-->530 KB<!--
-->)</span>
</a>
 </p>\n<p>8. New or Other Business:<br />&nbsp\; &nbsp\; &nbsp\; &nbsp\; &n
 bsp\; &nbsp\; &nbsp\; &nbsp\;- <a class='doclink docman_track_download k-u
 i-namespace' href='index.php?option=com_docman&amp\;view=document&amp\;ali
 as=3455-2020-01-27-variance-appeal&amp\;category_slug=2020-council-agendas
 &amp\;Itemid=246' target='_blank' data-title='2020 01 27 Variance Appeal' 
 data-id='3455' type='application/pdf' data-processed='data-processed'>    
 
<span class='k-icon-document-pdf  ' aria-hidden='true'></span>
<span class=
 'k-visually-hidden'>pdf</span>
George El-Jakl Variance Appeal<span>(<!--
-->
 54 KB<!--
-->)</span>
</a>. (7:30 p.m.)<br />&nbsp\; &nbsp\; &nbsp\; &nbsp\;
  &nbsp\; &nbsp\; &nbsp\; &nbsp\;- Consideration of amendments - <a class='
 doclink docman_track_download k-ui-namespace' href='index.php?option=com_d
 ocman&amp\;view=document&amp\;alias=3451-2020-01-27-policy-59-policy-on-co
 mmittees-of-council-nov-2019&amp\;category_slug=2020-council-agendas&amp\;
 Itemid=246' target='_blank' data-title='2020 01 27 Policy 59 Policy on Com
 mittees of Council Nov\, 2019' data-id='3451' type='application/pdf' data-
 processed='data-processed'>    
<span class='k-icon-document-pdf  ' aria-hi
 dden='true'></span>
<span class='k-visually-hidden'>pdf</span>
 Policy 59 “P
 olicy on Committees of Council”<span>(<!--
-->127 KB<!--
-->)</span>
</a>.<br
  />&nbsp\; &nbsp\; &nbsp\; &nbsp\; &nbsp\; &nbsp\; &nbsp\; &nbsp\;- First 
 Reading - Proposed amendments to <a class='doclink docman_track_download k
 -ui-namespace' href='index.php?option=com_docman&amp\;view=document&amp\;a
 lias=3447-2020-01-27-by-law-no-25-tax-exemption&amp\;category_slug=2020-co
 uncil-agendas&amp\;Itemid=246' target='_blank' data-title='2020 01 27 By l
 aw No 25 Tax Exemption' data-id='3447' type='application/pdf' data-process
 ed='data-processed'>    
<span class='k-icon-document-pdf  ' aria-hidden='t
 rue'></span>
<span class='k-visually-hidden'>pdf</span>
By-law 25 “Tax Exemp
 tion By-law<span>(<!--
-->26 KB<!--
-->)</span>
</a>”. <br />&nbsp\; &nbsp\; 
 &nbsp\; &nbsp\; &nbsp\; &nbsp\; &nbsp\; &nbsp\;- First Reading - Proposed 
 amendments to <a class='doclink docman_track_download k-ui-namespace' href
 ='index.php?option=com_docman&amp\;view=document&amp\;alias=3448-2020-01-2
 7-by-law-no-34-commerical-activity-of-municipal-property&amp\;category_slu
 g=2020-council-agendas&amp\;Itemid=246' target='_blank' data-title='2020 0
 1 27 By Law No 34 Commerical Activity of Municipal Property' data-id='3448
 ' type='application/pdf' data-processed='data-processed'>    
<span class='
 k-icon-document-pdf  ' aria-hidden='true'></span>
<span class='k-visually-h
 idden'>pdf</span>
 By-law No. 34 “Commercial Activity on Municipal Property
 ”<span>(<!--
-->28 KB<!--
-->)</span>
</a>.<br />&nbsp\; &nbsp\; &nbsp\; &nbs
 p\; &nbsp\; &nbsp\; &nbsp\; &nbsp\;-&nbsp\; Marathon Committee Member Resi
 gnations.<br />&nbsp\; &nbsp\; &nbsp\; &nbsp\; &nbsp\; &nbsp\; &nbsp\; &nb
 sp\;- <a class='doclink docman_track_download k-ui-namespace' href='index.
 php?option=com_docman&amp\;view=document&amp\;alias=3450-2020-01-27-counci
 l-for-a-day-contest&amp\;category_slug=2020-council-agendas&amp\;Itemid=24
 6' target='_blank' data-title='2020 01 27 Council for a Day Contest' data-
 id='3450' type='application/pdf' data-processed='data-processed'>    
<span
  class='k-icon-document-pdf  ' aria-hidden='true'></span>
<span class='k-vi
 sually-hidden'>pdf</span>
Council for a Day Contest Winners<span>(<!--
-->26
 9 KB<!--
-->)</span>
</a></p>\n<p>9. Correspondence:</p>\n<p>10. Agenda Item
 s for Future Meetings.</p>\n<p>11. Adjournment.<br />&nbsp\; &nbsp\; &nbsp
 \; &nbsp\; &nbsp\; &nbsp\; &nbsp\; &nbsp\; &nbsp\; &nbsp\; &nbsp\; &nbsp\;
  &nbsp\; &nbsp\; &nbsp\; &nbsp\; &nbsp\; &nbsp\; &nbsp\; &nbsp\; &nbsp\; &
 nbsp\; &nbsp\; &nbsp\; &nbsp\; &nbsp\; &nbsp\; &nbsp\; &nbsp\; &nbsp\; &nb
 sp\; &nbsp\; &nbsp\; &nbsp\; &nbsp\; &nbsp\; &nbsp\; _____________________
 ____________</p>\n<p>&nbsp\; &nbsp\; &nbsp\; &nbsp\; &nbsp\; &nbsp\; &nbsp
 \; &nbsp\; &nbsp\; &nbsp\; &nbsp\; &nbsp\; &nbsp\; &nbsp\; &nbsp\; &nbsp\;
  &nbsp\; &nbsp\; &nbsp\; &nbsp\; &nbsp\; &nbsp\; &nbsp\; &nbsp\; &nbsp\; &
 nbsp\; &nbsp\; &nbsp\; &nbsp\; &nbsp\; &nbsp\; &nbsp\; &nbsp\; &nbsp\; &nb
 sp\; &nbsp\; &nbsp\; &nbsp\; &nbsp\; &nbsp\; &nbsp\; &nbsp\; &nbsp\; &nbsp
 \; &nbsp\; &nbsp\; Chris Frotten\, CAO</p>
END:VEVENT
END:VCALENDAR
