BEGIN:VCALENDAR
VERSION:2.0
PRODID:-//https://www.barringtonmunicipality.com//NONSGML kigkonsult.se iCa
 lcreator 2.29.29//
CALSCALE:GREGORIAN
METHOD:PUBLISH
UID:1def159e-1f5f-4b7c-9c07-accf0cf7f82d
X-WR-CALNAME:JCal Pro Calendar
X-WR-CALDESC:Your online events calendar
X-WR-TIMEZONE:America/Halifax
BEGIN:VTIMEZONE
TZID:America/Halifax
BEGIN:STANDARD
TZNAME:AST
DTSTART:20251102T020000
TZOFFSETFROM:-0300
TZOFFSETTO:-0400
RDATE:20261101T020000
END:STANDARD
BEGIN:DAYLIGHT
TZNAME:ADT
DTSTART:20260308T020000
TZOFFSETFROM:-0400
TZOFFSETTO:-0300
RDATE:20270314T020000
END:DAYLIGHT
END:VTIMEZONE
BEGIN:VEVENT
UID:20210121T190000AST-13253d1cXB@https://barringtonmunicipality.com/
DTSTAMP:20260425T210751Z
CATEGORIES:Other Municipal Meetings
DESCRIPTION:<p>&nbsp\;</p>\n<h3>AGENDA<br />Planning Advisory Committee</h3
 >\n<h3>February 3\, 2021<br />7:00 p.m.</h3>\n<p>&nbsp\;</p>\n<p>1. Additi
 ons to Agenda.</p>\n<p>2. Approval of Agenda.</p>\n<p>3. Approval of minut
 es of the last meeting held <a href='index.php?option=com_docman&amp\;view
 =document&amp\;alias=3862-2020-01-23-planning-advisory-committee&amp\;cate
 gory_slug=2020-planning-advisory-committee-meetings&amp\;Itemid=246' targe
 t='_blank' class='doclink docman_track_download k-ui-namespace' data-title
 ='2020 01 23 Planning Advisory Committee' data-id='3862' type='application
 /pdf' data-processed='data-processed'>    
<span class='k-icon-document-pdf
   ' aria-hidden='true'></span>
<span class='k-visually-hidden'>pdf</span>
Ja
 nuary 23\, 2020<span>(<!--
-->91 KB<!--
-->)</span>
</a>.</p>\n<p>4. Election
  of Chairperson.</p>\n<p>5. Election of Vice Chairperson.</p>\n<p>6. Futur
 e Appointments.</p>\n<p>7. <a href='index.php?option=com_docman&amp\;view=
 document&amp\;alias=3861-2021-01-21-lobster-storage-facilities&amp\;catego
 ry_slug=municipal-documents&amp\;Itemid=246' target='_blank' class='doclin
 k docman_track_download k-ui-namespace' data-title='2021 01 21 Lobster Sto
 rage Facilities' data-id='3861' type='application/pdf' data-processed='dat
 a-processed'>    
<span class='k-icon-document-pdf  ' aria-hidden='true'></
 span>
<span class='k-visually-hidden'>pdf</span>
Lobster Storage Facilities<
 span>(<!--
-->1.01 MB<!--
-->)</span>
</a>.</p>\n<p>8. Setbacks for Farms or 
 Farm Areas.</p>\n<p>9. Application for Development Agreement – <a href='in
 dex.php?option=com_docman&amp\;view=document&amp\;alias=3868-2021-01-21-de
 velopment-agreement-application-duramax-holdings&amp\;category_slug=munici
 pal-documents&amp\;Itemid=246' target='_blank' class='doclink docman_track
 _download k-ui-namespace' data-title='2021 01 21 Development Agreement App
 lication Duramax Holdings' data-id='3868' type='application/pdf' data-proc
 essed='data-processed'>    
<span class='k-icon-document-pdf  ' aria-hidden
 ='true'></span>
<span class='k-visually-hidden'>pdf</span>
Duramax Holdings 
 Inc.<span>(<!--
-->884 KB<!--
-->)</span>
</a></p>\n<p>10. In-Camera Session 
 Re: Application for Development Agreement – Duramax Holdings Inc. (MGA <br
  /> Section 22(2)(g))</p>\n<p>11. Adjournment.</p>
DTSTART;TZID=America/Halifax:20210203T190000
DTEND;TZID=America/Halifax:20210203T190000
SUMMARY:Planning Advisory Committee
URL:https://www.barringtonmunicipality.com/197-other-municipal-meetings/100
 4-planning-advisory-committee
X-ALT-DESC;FMTTYPE=TEXT/HTML:<p>&nbsp\;</p>\n<h3>AGENDA<br />Planning Advis
 ory Committee</h3>\n<h3>February 3\, 2021<br />7:00 p.m.</h3>\n<p>&nbsp\;<
 /p>\n<p>1. Additions to Agenda.</p>\n<p>2. Approval of Agenda.</p>\n<p>3. 
 Approval of minutes of the last meeting held <a href='index.php?option=com
 _docman&amp\;view=document&amp\;alias=3862-2020-01-23-planning-advisory-co
 mmittee&amp\;category_slug=2020-planning-advisory-committee-meetings&amp\;
 Itemid=246' target='_blank' class='doclink docman_track_download k-ui-name
 space' data-title='2020 01 23 Planning Advisory Committee' data-id='3862' 
 type='application/pdf' data-processed='data-processed'>    
<span class='k-
 icon-document-pdf  ' aria-hidden='true'></span>
<span class='k-visually-hid
 den'>pdf</span>
January 23\, 2020<span>(<!--
-->91 KB<!--
-->)</span>
</a>.</p
 >\n<p>4. Election of Chairperson.</p>\n<p>5. Election of Vice Chairperson.
 </p>\n<p>6. Future Appointments.</p>\n<p>7. <a href='index.php?option=com_
 docman&amp\;view=document&amp\;alias=3861-2021-01-21-lobster-storage-facil
 ities&amp\;category_slug=municipal-documents&amp\;Itemid=246' target='_bla
 nk' class='doclink docman_track_download k-ui-namespace' data-title='2021 
 01 21 Lobster Storage Facilities' data-id='3861' type='application/pdf' da
 ta-processed='data-processed'>    
<span class='k-icon-document-pdf  ' aria
 -hidden='true'></span>
<span class='k-visually-hidden'>pdf</span>
Lobster St
 orage Facilities<span>(<!--
-->1.01 MB<!--
-->)</span>
</a>.</p>\n<p>8. Setba
 cks for Farms or Farm Areas.</p>\n<p>9. Application for Development Agreem
 ent – <a href='index.php?option=com_docman&amp\;view=document&amp\;alias=3
 868-2021-01-21-development-agreement-application-duramax-holdings&amp\;cat
 egory_slug=municipal-documents&amp\;Itemid=246' target='_blank' class='doc
 link docman_track_download k-ui-namespace' data-title='2021 01 21 Developm
 ent Agreement Application Duramax Holdings' data-id='3868' type='applicati
 on/pdf' data-processed='data-processed'>    
<span class='k-icon-document-p
 df  ' aria-hidden='true'></span>
<span class='k-visually-hidden'>pdf</span>
 
Duramax Holdings Inc.<span>(<!--
-->884 KB<!--
-->)</span>
</a></p>\n<p>10. I
 n-Camera Session Re: Application for Development Agreement – Duramax Holdi
 ngs Inc. (MGA <br /> Section 22(2)(g))</p>\n<p>11. Adjournment.</p>
END:VEVENT
END:VCALENDAR
