BEGIN:VCALENDAR
VERSION:2.0
PRODID:-//https://www.barringtonmunicipality.com//NONSGML kigkonsult.se iCa
 lcreator 2.29.29//
CALSCALE:GREGORIAN
METHOD:PUBLISH
UID:e47cee13-d75c-44fb-a95e-e296839c0477
X-WR-CALNAME:JCal Pro Calendar
X-WR-CALDESC:Your online events calendar
X-WR-TIMEZONE:America/Halifax
BEGIN:VTIMEZONE
TZID:America/Halifax
BEGIN:STANDARD
TZNAME:AST
DTSTART:20251102T020000
TZOFFSETFROM:-0300
TZOFFSETTO:-0400
RDATE:20261101T020000
END:STANDARD
BEGIN:DAYLIGHT
TZNAME:ADT
DTSTART:20260308T020000
TZOFFSETFROM:-0400
TZOFFSETTO:-0300
RDATE:20270314T020000
END:DAYLIGHT
END:VTIMEZONE
BEGIN:VEVENT
UID:20250211T190000AST-2007V9Btov@https://barringtonmunicipality.com/
DTSTAMP:20260425T233654Z
CATEGORIES:Committee of the Whole Meetings
DESCRIPTION:<p>The location of meeting agendas and minutes has changed. To 
 access the latest documents\, please visit the following link:&nbsp\;<a hr
 ef='https://barringtonmunicipality.community-ca.highbond.com/Portal/'>http
 s://barringtonmunicipality.community-ca.highbond.com/Portal/</a></p>\n<p>B
 e sure to update your bookmarks for quick access to council records. If yo
 u have any questions\, feel free to contact us at 902-637-2015 or <!-- Thi
 s email address is being protected from spambots. --><a href='javascript:/
 * This email address is being protected from spambots.*/'><span class='clo
 aked_email ep_d422dbbf'><span data-ep-b='&#109\;' data-ep-a='&#105\;&#110\
 ;&#102\;&#111\;&#64\;&#98\;'><span data-ep-b='i&#116\;&#121\;&#46\;&#99\;&
 #111\;' data-ep-a='a&#114\;rin&#103\;'><span data-ep-a='&#116\;on&#109\;un
 ' data-ep-b='i&#99\;&#105\;&#112\;a&#108\;'></span></span></span></span><s
 cript>RegularLabs.EmailProtector.unCloak('ep_d422dbbf')\;</script><span cl
 ass='cloaked_email ep_47d9565f' style='display:none\;'><span data-ep-a='&#
 105\;n&#102\;&#111\;&#64\;b' data-ep-b='&#109\;'><span data-ep-b='it&#121\
 ;&#46\;&#99\;&#111\;' data-ep-a='&#97\;&#114\;&#114\;&#105\;&#110\;g'><spa
 n data-ep-b='&#105\;ci&#112\;&#97\;&#108\;' data-ep-a='&#116\;&#111\;&#110
 \;m&#117\;&#110\;'></span></span></span></span></a><script>RegularLabs.Ema
 ilProtector.unCloak('ep_47d9565f'\, true)\;</script>.&nbsp\;</p>
DTSTART;TZID=America/Halifax:20250211T190000
DTEND;TZID=America/Halifax:20250211T210000
SUMMARY:Committee of the Whole Council Meeting
URL:https://www.barringtonmunicipality.com/193-committee-of-the-whole-meeti
 ngs/2596-committee-of-the-whole-council-meeting
X-ALT-DESC;FMTTYPE=TEXT/HTML:<p>The location of meeting agendas and minutes
  has changed. To access the latest documents\, please visit the following 
 link:&nbsp\;<a href='https://barringtonmunicipality.community-ca.highbond.
 com/Portal/'>https://barringtonmunicipality.community-ca.highbond.com/Port
 al/</a></p>\n<p>Be sure to update your bookmarks for quick access to counc
 il records. If you have any questions\, feel free to contact us at 902-637
 -2015 or <!-- This email address is being protected from spambots. --><a h
 ref='javascript:/* This email address is being protected from spambots.*/'
 ><span class='cloaked_email ep_d422dbbf'><span data-ep-b='&#109\;' data-ep
 -a='&#105\;&#110\;&#102\;&#111\;&#64\;&#98\;'><span data-ep-b='i&#116\;&#1
 21\;&#46\;&#99\;&#111\;' data-ep-a='a&#114\;rin&#103\;'><span data-ep-a='&
 #116\;on&#109\;un' data-ep-b='i&#99\;&#105\;&#112\;a&#108\;'></span></span
 ></span></span><script>RegularLabs.EmailProtector.unCloak('ep_d422dbbf')\;
 </script><span class='cloaked_email ep_47d9565f' style='display:none\;'><s
 pan data-ep-a='&#105\;n&#102\;&#111\;&#64\;b' data-ep-b='&#109\;'><span da
 ta-ep-b='it&#121\;&#46\;&#99\;&#111\;' data-ep-a='&#97\;&#114\;&#114\;&#10
 5\;&#110\;g'><span data-ep-b='&#105\;ci&#112\;&#97\;&#108\;' data-ep-a='&#
 116\;&#111\;&#110\;m&#117\;&#110\;'></span></span></span></span></a><scrip
 t>RegularLabs.EmailProtector.unCloak('ep_47d9565f'\, true)\;</script>.&nbs
 p\;</p>
END:VEVENT
BEGIN:VEVENT
UID:20250218T190000AST-3004t30cFG@https://barringtonmunicipality.com/
DTSTAMP:20260425T233654Z
CATEGORIES:Committee of the Whole Meetings
DESCRIPTION:<p>The location of meeting agendas and minutes has changed. To 
 access the latest documents\, please visit the following link:&nbsp\;<a hr
 ef='https://barringtonmunicipality.community-ca.highbond.com/Portal/'>http
 s://barringtonmunicipality.community-ca.highbond.com/Portal/</a></p>\n<p>B
 e sure to update your bookmarks for quick access to council records. If yo
 u have any questions\, feel free to contact us at 902-637-2015 or <!-- Thi
 s email address is being protected from spambots. --><a href='javascript:/
 * This email address is being protected from spambots.*/'><span class='clo
 aked_email ep_3800d4f1'><span data-ep-b='m' data-ep-a='&#105\;nf&#111\;&#6
 4\;&#98\;'><span data-ep-a='&#97\;&#114\;r&#105\;&#110\;&#103\;' data-ep-b
 ='&#105\;t&#121\;.co'><span data-ep-b='&#105\;&#99\;&#105\;&#112\;&#97\;&#
 108\;' data-ep-a='&#116\;&#111\;&#110\;&#109\;&#117\;&#110\;'></span></spa
 n></span></span><script>RegularLabs.EmailProtector.unCloak('ep_3800d4f1')\
 ;</script><span class='cloaked_email ep_f71fca37' style='display:none\;'><
 span data-ep-b='&#109\;' data-ep-a='&#105\;&#110\;f&#111\;&#64\;&#98\;'><s
 pan data-ep-b='it&#121\;.&#99\;o' data-ep-a='&#97\;&#114\;&#114\;&#105\;&#
 110\;&#103\;'><span data-ep-b='&#105\;c&#105\;p&#97\;&#108\;' data-ep-a='&
 #116\;&#111\;n&#109\;&#117\;n'></span></span></span></span></a><script>Reg
 ularLabs.EmailProtector.unCloak('ep_f71fca37'\, true)\;</script>.&nbsp\;</
 p>
DTSTART;TZID=America/Halifax:20250218T190000
DTEND;TZID=America/Halifax:20250218T210000
SUMMARY:Committee of the Whole Council Meeting
URL:https://www.barringtonmunicipality.com/193-committee-of-the-whole-meeti
 ngs/2597-committee-of-the-whole-council-meeting
X-ALT-DESC;FMTTYPE=TEXT/HTML:<p>The location of meeting agendas and minutes
  has changed. To access the latest documents\, please visit the following 
 link:&nbsp\;<a href='https://barringtonmunicipality.community-ca.highbond.
 com/Portal/'>https://barringtonmunicipality.community-ca.highbond.com/Port
 al/</a></p>\n<p>Be sure to update your bookmarks for quick access to counc
 il records. If you have any questions\, feel free to contact us at 902-637
 -2015 or <!-- This email address is being protected from spambots. --><a h
 ref='javascript:/* This email address is being protected from spambots.*/'
 ><span class='cloaked_email ep_3800d4f1'><span data-ep-b='m' data-ep-a='&#
 105\;nf&#111\;&#64\;&#98\;'><span data-ep-a='&#97\;&#114\;r&#105\;&#110\;&
 #103\;' data-ep-b='&#105\;t&#121\;.co'><span data-ep-b='&#105\;&#99\;&#105
 \;&#112\;&#97\;&#108\;' data-ep-a='&#116\;&#111\;&#110\;&#109\;&#117\;&#11
 0\;'></span></span></span></span><script>RegularLabs.EmailProtector.unCloa
 k('ep_3800d4f1')\;</script><span class='cloaked_email ep_f71fca37' style='
 display:none\;'><span data-ep-b='&#109\;' data-ep-a='&#105\;&#110\;f&#111\
 ;&#64\;&#98\;'><span data-ep-b='it&#121\;.&#99\;o' data-ep-a='&#97\;&#114\
 ;&#114\;&#105\;&#110\;&#103\;'><span data-ep-b='&#105\;c&#105\;p&#97\;&#10
 8\;' data-ep-a='&#116\;&#111\;n&#109\;&#117\;n'></span></span></span></spa
 n></a><script>RegularLabs.EmailProtector.unCloak('ep_f71fca37'\, true)\;</
 script>.&nbsp\;</p>
END:VEVENT
BEGIN:VEVENT
UID:20250225T190000AST-2903cueMNV@https://barringtonmunicipality.com/
DTSTAMP:20260425T233654Z
CATEGORIES:Council Meetings
DESCRIPTION:<p>The location of meeting agendas and minutes has changed. To 
 access the latest documents\, please visit the following link:&nbsp\;<a hr
 ef='https://barringtonmunicipality.community-ca.highbond.com/Portal/'>http
 s://barringtonmunicipality.community-ca.highbond.com/Portal/</a></p>\n<p>B
 e sure to update your bookmarks for quick access to council records. If yo
 u have any questions\, feel free to contact us at 902-637-2015 or <!-- Thi
 s email address is being protected from spambots. --><a href='javascript:/
 * This email address is being protected from spambots.*/'><span class='clo
 aked_email ep_7c3cfec7'><span data-ep-b='m' data-ep-a='&#105\;&#110\;fo&#6
 4\;&#98\;'><span data-ep-a='a&#114\;&#114\;&#105\;&#110\;&#103\;' data-ep-
 b='i&#116\;&#121\;&#46\;&#99\;&#111\;'><span data-ep-b='&#105\;&#99\;&#105
 \;&#112\;a&#108\;' data-ep-a='&#116\;&#111\;n&#109\;u&#110\;'></span></spa
 n></span></span><script>RegularLabs.EmailProtector.unCloak('ep_7c3cfec7')\
 ;</script><span class='cloaked_email ep_420b5a61' style='display:none\;'><
 span data-ep-b='&#109\;' data-ep-a='&#105\;n&#102\;&#111\;&#64\;b'><span d
 ata-ep-a='a&#114\;r&#105\;n&#103\;' data-ep-b='i&#116\;&#121\;&#46\;c&#111
 \;'><span data-ep-b='i&#99\;&#105\;&#112\;a&#108\;' data-ep-a='&#116\;&#11
 1\;&#110\;&#109\;&#117\;&#110\;'></span></span></span></span></a><script>R
 egularLabs.EmailProtector.unCloak('ep_420b5a61'\, true)\;</script>.&nbsp\;
 </p>
DTSTART;TZID=America/Halifax:20250225T190000
DTEND;TZID=America/Halifax:20250225T210000
SUMMARY:Council Meeting
URL:https://www.barringtonmunicipality.com/194-council-meetings/2598-counci
 l-meeting
X-ALT-DESC;FMTTYPE=TEXT/HTML:<p>The location of meeting agendas and minutes
  has changed. To access the latest documents\, please visit the following 
 link:&nbsp\;<a href='https://barringtonmunicipality.community-ca.highbond.
 com/Portal/'>https://barringtonmunicipality.community-ca.highbond.com/Port
 al/</a></p>\n<p>Be sure to update your bookmarks for quick access to counc
 il records. If you have any questions\, feel free to contact us at 902-637
 -2015 or <!-- This email address is being protected from spambots. --><a h
 ref='javascript:/* This email address is being protected from spambots.*/'
 ><span class='cloaked_email ep_7c3cfec7'><span data-ep-b='m' data-ep-a='&#
 105\;&#110\;fo&#64\;&#98\;'><span data-ep-a='a&#114\;&#114\;&#105\;&#110\;
 &#103\;' data-ep-b='i&#116\;&#121\;&#46\;&#99\;&#111\;'><span data-ep-b='&
 #105\;&#99\;&#105\;&#112\;a&#108\;' data-ep-a='&#116\;&#111\;n&#109\;u&#11
 0\;'></span></span></span></span><script>RegularLabs.EmailProtector.unCloa
 k('ep_7c3cfec7')\;</script><span class='cloaked_email ep_420b5a61' style='
 display:none\;'><span data-ep-b='&#109\;' data-ep-a='&#105\;n&#102\;&#111\
 ;&#64\;b'><span data-ep-a='a&#114\;r&#105\;n&#103\;' data-ep-b='i&#116\;&#
 121\;&#46\;c&#111\;'><span data-ep-b='i&#99\;&#105\;&#112\;a&#108\;' data-
 ep-a='&#116\;&#111\;&#110\;&#109\;&#117\;&#110\;'></span></span></span></s
 pan></a><script>RegularLabs.EmailProtector.unCloak('ep_420b5a61'\, true)\;
 </script>.&nbsp\;</p>
END:VEVENT
END:VCALENDAR
