BEGIN:VCALENDAR
VERSION:2.0
PRODID:-//https://www.barringtonmunicipality.com//NONSGML kigkonsult.se iCa
 lcreator 2.29.29//
CALSCALE:GREGORIAN
METHOD:PUBLISH
UID:8d4155f2-9e73-43be-819f-126c8b169c2d
X-WR-CALNAME:JCal Pro Calendar
X-WR-CALDESC:Your online events calendar
X-WR-TIMEZONE:America/Halifax
BEGIN:VTIMEZONE
TZID:America/Halifax
BEGIN:STANDARD
TZNAME:AST
DTSTART:20251102T020000
TZOFFSETFROM:-0300
TZOFFSETTO:-0400
RDATE:20261101T020000
END:STANDARD
BEGIN:DAYLIGHT
TZNAME:ADT
DTSTART:20260308T020000
TZOFFSETFROM:-0400
TZOFFSETTO:-0300
RDATE:20270314T020000
END:DAYLIGHT
END:VTIMEZONE
BEGIN:VEVENT
UID:20190408T180000ADT-5440ssc3DI@http://barrington.mwvdev.info/
DTSTAMP:20260425T210541Z
CATEGORIES:Private Rental
DTSTART;TZID=America/Halifax:20190408T180000
DTEND;TZID=America/Halifax:20190408T210000
RRULE:FREQ=WEEKLY;COUNT=10;INTERVAL=1;BYDAY=MO,WE
SUMMARY:Ball Clinic
URL:https://www.barringtonmunicipality.com/202-private-rental/2-ball-clinic
END:VEVENT
BEGIN:VEVENT
UID:20190510T110000ADT-2231lUpaRF@http://barrington.mwvdev.info/
DTSTAMP:20260425T210541Z
CATEGORIES:Private Rental
DTSTART;TZID=America/Halifax:20190510T200000
DTEND;TZID=America/Halifax:20190510T210000
SUMMARY:PR - Selina Kaiser
URL:https://www.barringtonmunicipality.com/202-private-rental/57-pr-selina-
 kaiser
END:VEVENT
END:VCALENDAR
