BEGIN:VCALENDAR
VERSION:2.0
PRODID:-//https://www.barringtonmunicipality.com//NONSGML kigkonsult.se iCa
 lcreator 2.29.29//
CALSCALE:GREGORIAN
METHOD:PUBLISH
UID:dce8fa98-9038-4e73-929e-e5b4eec739fe
X-WR-CALNAME:JCal Pro Calendar
X-WR-CALDESC:Your online events calendar
X-WR-TIMEZONE:America/Halifax
BEGIN:VTIMEZONE
TZID:America/Halifax
BEGIN:STANDARD
TZNAME:AST
DTSTART:20251102T020000
TZOFFSETFROM:-0300
TZOFFSETTO:-0400
RDATE:20261101T020000
END:STANDARD
BEGIN:DAYLIGHT
TZNAME:ADT
DTSTART:20260308T020000
TZOFFSETFROM:-0400
TZOFFSETTO:-0300
RDATE:20270314T020000
END:DAYLIGHT
END:VTIMEZONE
BEGIN:VEVENT
UID:20200113T190000AST-6906wgt0Zx@https://www.barringtonmunicipality.com/
DTSTAMP:20260425T210643Z
CATEGORIES:Committee of the Whole Meetings
DESCRIPTION:<h3>AGENDA<br />COMMITTEE OF THE WHOLE<br />Conference Room</h3
 >\n<p>January 13\, 2020<br />7:00 p.m.</p>\n<p>&nbsp\;</p>\n<p>1. Addition
 s to the Agenda.</p>\n<p>2. Approval of Agenda.</p>\n<p>3. <a class='docli
 nk docman_track_download k-ui-namespace' href='index.php?option=com_docman
 &amp\;view=document&amp\;alias=3430-2020-01-13-december-2-2019-committee-o
 f-the-whole-council&amp\;category_slug=2020-committee-of-the-whole-agendas
 &amp\;Itemid=246' target='_blank' data-title='2020 01 13 December 2\, 2019
  Committee of the Whole Council' data-id='3430' type='application/pdf' dat
 a-processed='data-processed'>    
<span class='k-icon-document-pdf  ' aria-
 hidden='true'></span>
<span class='k-visually-hidden'>pdf</span>
Approval of
  minutes of the Committee of the Whole Council Meeting held December 2\, 2
 019.<span>(<!--
-->60 KB<!--
-->)</span>
</a></p>\n<p>4. Acting Sgt. Dave Too
 pe\, RCMP Report. (7:00 - 7:30 p.m.)</p>\n<p>5. <a class='doclink docman_t
 rack_download k-ui-namespace' href='index.php?option=com_docman&amp\;view=
 document&amp\;alias=3426-2020-01-13-shelley-and-dwaine-d-eon-request-1&amp
 \;category_slug=2020-committee-of-the-whole-agendas&amp\;Itemid=246' targe
 t='_blank' data-title='2020 01 13 Shelley and Dwaine d'Eon Request' data-i
 d='3426' type='application/pdf' data-processed='data-processed'>    
<span 
 class='k-icon-document-pdf  ' aria-hidden='true'></span>
<span class='k-vis
 ually-hidden'>pdf</span>
Inquiry of Acquisition of Property at Sherose Isla
 nd - Shelley and Dwaine d’Eon<span>(<!--
-->1019 KB<!--
-->)</span>
</a>.</p>
 \n<p>6. <a class='doclink docman_track_download k-ui-namespace' href='inde
 x.php?option=com_docman&amp\;view=document&amp\;alias=3425-2020-01-13-lett
 er-of-notice-commercial-bag-limit-collection-2019-1&amp\;category_slug=202
 0-committee-of-the-whole-agendas&amp\;Itemid=246' target='_blank' data-tit
 le='2020 01 13 Letter of Notice Commercial Bag Limit Collection 2019' data
 -id='3425' type='application/pdf' data-processed='data-processed'>    
<spa
 n class='k-icon-document-pdf  ' aria-hidden='true'></span>
<span class='k-v
 isually-hidden'>pdf</span>
Commercial Waste Collection Notice.<span>(<!--
--
 >87 KB<!--
-->)</span>
</a></p>\n<p>7. <a class='doclink docman_track_downlo
 ad k-ui-namespace' href='index.php?option=com_docman&amp\;view=document&am
 p\;alias=3414-2020-01-13-by-law-no-25-tax-exemption&amp\;category_slug=202
 0-committee-of-the-whole-agendas&amp\;Itemid=246' target='_blank' data-tit
 le='2020 01 13 By law No 25 Tax Exemption' data-id='3414' type='applicatio
 n/pdf' data-processed='data-processed'>    
<span class='k-icon-document-pd
 f  ' aria-hidden='true'></span>
<span class='k-visually-hidden'>pdf</span>
P
 roposed amendments to By-law No. 25 “Tax Exemption By-law” to amend Schedu
 les B and C.<span>(<!--
-->28 KB<!--
-->)</span>
</a></p>\n<p>8. <a class='do
 clink docman_track_download k-ui-namespace' href='index.php?option=com_doc
 man&amp\;view=document&amp\;alias=3429-2020-01-13-vending-permit-1&amp\;ca
 tegory_slug=2020-committee-of-the-whole-agendas&amp\;Itemid=246' target='_
 blank' data-title='2020 01 13 Vending Permit' data-id='3429' type='applica
 tion/pdf' data-processed='data-processed'>    
<span class='k-icon-document
 -pdf  ' aria-hidden='true'></span>
<span class='k-visually-hidden'>pdf</spa
 n>
Application for Vending Permit - Puggy’s Kitchen.<span>(<!--
-->379 KB<!-
 -
-->)</span>
</a></p>\n<p><span style='background-color: inherit\; color: i
 nherit\; font-family: inherit\; font-size: 1rem\;'>9. <a class='doclink do
 cman_track_download k-ui-namespace' href='index.php?option=com_docman&amp\
 ;view=document&amp\;alias=3428-2020-01-13-tree-harvesting-plans-1&amp\;cat
 egory_slug=2020-committee-of-the-whole-agendas&amp\;Itemid=246' target='_b
 lank' data-title='2020 01 13 Tree Harvesting Plans' data-id='3428' type='a
 pplication/pdf' data-processed='data-processed'>    
<span class='k-icon-do
 cument-pdf  ' aria-hidden='true'></span>
<span class='k-visually-hidden'>pd
 f</span>
Provincial Tree Harvesting Plans<span>(<!--
-->198 KB<!--
-->)</span
 >
</a>.</span></p>\n<p>10. <a class='doclink docman_track_download k-ui-nam
 espace' href='index.php?option=com_docman&amp\;view=document&amp\;alias=34
 24-2020-01-13-janitorial-services-tender-modb1907-1&amp\;category_slug=202
 0-committee-of-the-whole-agendas&amp\;Itemid=246' target='_blank' data-tit
 le='2020 01 13 Janitorial Services Tender MODB1907' data-id='3424' type='a
 pplication/pdf' data-processed='data-processed'>    
<span class='k-icon-do
 cument-pdf  ' aria-hidden='true'></span>
<span class='k-visually-hidden'>pd
 f</span>
Janitorial Contract.<span>(<!--
-->174 KB<!--
-->)</span>
</a></p>\n<
 p>11. <a class='doclink docman_track_download k-ui-namespace' href='index.
 php?option=com_docman&amp\;view=document&amp\;alias=3427-2020-01-13-staff-
 report-future-of-vic-operations-and-building-dec-2019-full-1&amp\;category
 _slug=2020-committee-of-the-whole-agendas&amp\;Itemid=246' target='_blank'
  data-title='2020 01 13 Staff Report Future of VIC Operations and Building
  Dec 2019 (Full)' data-id='3427' type='application/pdf' data-processed='da
 ta-processed'>    
<span class='k-icon-document-pdf  ' aria-hidden='true'><
 /span>
<span class='k-visually-hidden'>pdf</span>
Future VIC Operation.<span
 >(<!--
-->704 KB<!--
-->)</span>
</a></p>\n<p>12. In-Camera Session Re: Munic
 ipal Property and Personnel Matter. (Section 22(2)(a)(c).</p>\n<p>13. Adjo
 urnment.</p>
DTSTART;TZID=America/Halifax:20200113T190000
DTEND;TZID=America/Halifax:20200113T190000
SUMMARY:Committee of the Whole Council Meeting
URL:https://www.barringtonmunicipality.com/193-committee-of-the-whole-meeti
 ngs/122-committee-of-the-whole-council-meeting
X-ALT-DESC;FMTTYPE=TEXT/HTML:<h3>AGENDA<br />COMMITTEE OF THE WHOLE<br />Co
 nference Room</h3>\n<p>January 13\, 2020<br />7:00 p.m.</p>\n<p>&nbsp\;</p
 >\n<p>1. Additions to the Agenda.</p>\n<p>2. Approval of Agenda.</p>\n<p>3
 . <a class='doclink docman_track_download k-ui-namespace' href='index.php?
 option=com_docman&amp\;view=document&amp\;alias=3430-2020-01-13-december-2
 -2019-committee-of-the-whole-council&amp\;category_slug=2020-committee-of-
 the-whole-agendas&amp\;Itemid=246' target='_blank' data-title='2020 01 13 
 December 2\, 2019 Committee of the Whole Council' data-id='3430' type='app
 lication/pdf' data-processed='data-processed'>    
<span class='k-icon-docu
 ment-pdf  ' aria-hidden='true'></span>
<span class='k-visually-hidden'>pdf<
 /span>
Approval of minutes of the Committee of the Whole Council Meeting he
 ld December 2\, 2019.<span>(<!--
-->60 KB<!--
-->)</span>
</a></p>\n<p>4. Act
 ing Sgt. Dave Toope\, RCMP Report. (7:00 - 7:30 p.m.)</p>\n<p>5. <a class=
 'doclink docman_track_download k-ui-namespace' href='index.php?option=com_
 docman&amp\;view=document&amp\;alias=3426-2020-01-13-shelley-and-dwaine-d-
 eon-request-1&amp\;category_slug=2020-committee-of-the-whole-agendas&amp\;
 Itemid=246' target='_blank' data-title='2020 01 13 Shelley and Dwaine d'Eo
 n Request' data-id='3426' type='application/pdf' data-processed='data-proc
 essed'>    
<span class='k-icon-document-pdf  ' aria-hidden='true'></span>
<
 span class='k-visually-hidden'>pdf</span>
Inquiry of Acquisition of Propert
 y at Sherose Island - Shelley and Dwaine d’Eon<span>(<!--
-->1019 KB<!--
-->
 )</span>
</a>.</p>\n<p>6. <a class='doclink docman_track_download k-ui-name
 space' href='index.php?option=com_docman&amp\;view=document&amp\;alias=342
 5-2020-01-13-letter-of-notice-commercial-bag-limit-collection-2019-1&amp\;
 category_slug=2020-committee-of-the-whole-agendas&amp\;Itemid=246' target=
 '_blank' data-title='2020 01 13 Letter of Notice Commercial Bag Limit Coll
 ection 2019' data-id='3425' type='application/pdf' data-processed='data-pr
 ocessed'>    
<span class='k-icon-document-pdf  ' aria-hidden='true'></span
 >
<span class='k-visually-hidden'>pdf</span>
Commercial Waste Collection Not
 ice.<span>(<!--
-->87 KB<!--
-->)</span>
</a></p>\n<p>7. <a class='doclink do
 cman_track_download k-ui-namespace' href='index.php?option=com_docman&amp\
 ;view=document&amp\;alias=3414-2020-01-13-by-law-no-25-tax-exemption&amp\;
 category_slug=2020-committee-of-the-whole-agendas&amp\;Itemid=246' target=
 '_blank' data-title='2020 01 13 By law No 25 Tax Exemption' data-id='3414'
  type='application/pdf' data-processed='data-processed'>    
<span class='k
 -icon-document-pdf  ' aria-hidden='true'></span>
<span class='k-visually-hi
 dden'>pdf</span>
Proposed amendments to By-law No. 25 “Tax Exemption By-law
 ” to amend Schedules B and C.<span>(<!--
-->28 KB<!--
-->)</span>
</a></p>\n<
 p>8. <a class='doclink docman_track_download k-ui-namespace' href='index.p
 hp?option=com_docman&amp\;view=document&amp\;alias=3429-2020-01-13-vending
 -permit-1&amp\;category_slug=2020-committee-of-the-whole-agendas&amp\;Item
 id=246' target='_blank' data-title='2020 01 13 Vending Permit' data-id='34
 29' type='application/pdf' data-processed='data-processed'>    
<span class
 ='k-icon-document-pdf  ' aria-hidden='true'></span>
<span class='k-visually
 -hidden'>pdf</span>
Application for Vending Permit - Puggy’s Kitchen.<span>
 (<!--
-->379 KB<!--
-->)</span>
</a></p>\n<p><span style='background-color: i
 nherit\; color: inherit\; font-family: inherit\; font-size: 1rem\;'>9. <a 
 class='doclink docman_track_download k-ui-namespace' href='index.php?optio
 n=com_docman&amp\;view=document&amp\;alias=3428-2020-01-13-tree-harvesting
 -plans-1&amp\;category_slug=2020-committee-of-the-whole-agendas&amp\;Itemi
 d=246' target='_blank' data-title='2020 01 13 Tree Harvesting Plans' data-
 id='3428' type='application/pdf' data-processed='data-processed'>    
<span
  class='k-icon-document-pdf  ' aria-hidden='true'></span>
<span class='k-vi
 sually-hidden'>pdf</span>
Provincial Tree Harvesting Plans<span>(<!--
-->198
  KB<!--
-->)</span>
</a>.</span></p>\n<p>10. <a class='doclink docman_track_
 download k-ui-namespace' href='index.php?option=com_docman&amp\;view=docum
 ent&amp\;alias=3424-2020-01-13-janitorial-services-tender-modb1907-1&amp\;
 category_slug=2020-committee-of-the-whole-agendas&amp\;Itemid=246' target=
 '_blank' data-title='2020 01 13 Janitorial Services Tender MODB1907' data-
 id='3424' type='application/pdf' data-processed='data-processed'>    
<span
  class='k-icon-document-pdf  ' aria-hidden='true'></span>
<span class='k-vi
 sually-hidden'>pdf</span>
Janitorial Contract.<span>(<!--
-->174 KB<!--
-->)<
 /span>
</a></p>\n<p>11. <a class='doclink docman_track_download k-ui-namesp
 ace' href='index.php?option=com_docman&amp\;view=document&amp\;alias=3427-
 2020-01-13-staff-report-future-of-vic-operations-and-building-dec-2019-ful
 l-1&amp\;category_slug=2020-committee-of-the-whole-agendas&amp\;Itemid=246
 ' target='_blank' data-title='2020 01 13 Staff Report Future of VIC Operat
 ions and Building Dec 2019 (Full)' data-id='3427' type='application/pdf' d
 ata-processed='data-processed'>    
<span class='k-icon-document-pdf  ' ari
 a-hidden='true'></span>
<span class='k-visually-hidden'>pdf</span>
Future VI
 C Operation.<span>(<!--
-->704 KB<!--
-->)</span>
</a></p>\n<p>12. In-Camera 
 Session Re: Municipal Property and Personnel Matter. (Section 22(2)(a)(c).
 </p>\n<p>13. Adjournment.</p>
END:VEVENT
BEGIN:VEVENT
UID:20191105T190000AST-3937D0mvo2@https://www.barringtonmunicipality.com/
DTSTAMP:20260425T210643Z
CATEGORIES:Recreation
DESCRIPTION:<p>for everyone\; individual play\; no teams</p>
DTSTART;TZID=America/Halifax:20191105T190000
DTEND;TZID=America/Halifax:20191105T220000
RRULE:FREQ=WEEKLY;UNTIL=20201124T040000Z;INTERVAL=1;BYDAY=TU
SUMMARY:Darts
URL:https://www.barringtonmunicipality.com/198-recreation/316-darts
X-ALT-DESC;FMTTYPE=TEXT/HTML:<p>for everyone\; individual play\; no teams</
 p>
END:VEVENT
BEGIN:VEVENT
UID:20200116T190000AST-4403NdPJVd@https://www.barringtonmunicipality.com/
DTSTAMP:20260425T210643Z
CATEGORIES:Other Municipal Meetings
DTSTART;TZID=America/Halifax:20200116T190000
DTEND;TZID=America/Halifax:20200116T190000
SUMMARY:Dialysis Committee Meeting - CANCELLED
URL:https://www.barringtonmunicipality.com/197-other-municipal-meetings/458
 -dialysis-committee-meeting-cancelled
END:VEVENT
END:VCALENDAR
